BEGIN:VCALENDAR
VERSION:2.0
PRODID:-//wp-events-plugin.com//6.4.10//EN
TZID:Europe/Vienna
X-WR-TIMEZONE:Europe/Vienna
BEGIN:VEVENT
UID:1044@verkehrsakademie.at
DTSTART;TZID=Europe/Vienna:20181114T090000
DTEND;TZID=Europe/Vienna:20181114T170000
DTSTAMP:20180920T122039Z
URL:https://www.verkehrsakademie.at/events/haftung-versicherung-bei-transp
 orten-4/
SUMMARY:Haftung &amp\; Versicherung bei Transporten
DESCRIPTION:\n\n\nIn diesem Seminar werden die Zusammenhänge von Haftung u
 nd Versicherung bei Transportabwicklungen praxisbezogen erläutert.\n\nInk
 l. Praxishandubch "Transport von Gütern - Haftung und Versicherung"!\n\nM
 ehr Informationen HaftungVersicherung_SpedLog_F\n\n\n
CATEGORIES:Weiterbildung
LOCATION:Hotel Ibis Wien Mariahilf\, Mariahilfer Gürtel 22-24\, Wien\, 106
 0\, Österreich
GEO:48.19319;16.339316
X-APPLE-STRUCTURED-LOCATION;VALUE=URI;X-ADDRESS=Mariahilfer Gürtel 22-24\,
  Wien\, 1060\, Österreich;X-APPLE-RADIUS=100;X-TITLE=Hotel Ibis Wien Mari
 ahilf:geo:48.19319,16.339316
END:VEVENT
BEGIN:VTIMEZONE
TZID:Europe/Vienna
X-LIC-LOCATION:Europe/Vienna
BEGIN:STANDARD
DTSTART:20181028T020000
TZOFFSETFROM:+0200
TZOFFSETTO:+0100
TZNAME:CET
END:STANDARD
END:VTIMEZONE
END:VCALENDAR