BEGIN:VCALENDAR
VERSION:2.0
PRODID:-//wp-events-plugin.com//6.4.10//EN
TZID:Europe/Vienna
X-WR-TIMEZONE:Europe/Vienna
BEGIN:VEVENT
UID:349@verkehrsakademie.at
DTSTART;TZID=Europe/Vienna:20160826T000000
DTEND;TZID=Europe/Vienna:20160826T000000
DTSTAMP:20160812T124423Z
URL:https://www.verkehrsakademie.at/events/hermes-wirtschafts-preis/
SUMMARY:HERMES.Wirtschafts.Preis
DESCRIPTION:Mit dem HERMES.Wirtschafts.Preis zeichnet das Medienhaus KURIER
  mit dem Bundesministerium für Wirtschaft und Leitbetriebe Austria jene U
 nternehmen aus\, um deren erfolgreiche Wirtschaftsleistungen verstärkt im
  Bewusstsein der Öffentlichkeit zu verankern. In folgenden Kategorien ist
  die Einreichung möglich: Klein+Mittel-\, Familien-\, Handels-\, Industri
 e-\, Logistik- und Frauen geführte Unternehmen\, sowie die erfolgreiche E
 xportwirtschaft mit der Kategorie International. Für die österreichische
  Wirtschaft ist der HERMES.Wirtschafts.Preis die begehrteste Auszeichnung 
 und für die nominierten Unternehmen eine hervorragende Gelegenheit\, um e
 in breites Publikum auf sich und seine Leistungen aufmerksam zu machen.\n\
 nInformation
CATEGORIES:Ausschreibungen
END:VEVENT
BEGIN:VTIMEZONE
TZID:Europe/Vienna
X-LIC-LOCATION:Europe/Vienna
BEGIN:DAYLIGHT
DTSTART:20160327T030000
TZOFFSETFROM:+0100
TZOFFSETTO:+0200
TZNAME:CEST
END:DAYLIGHT
END:VTIMEZONE
END:VCALENDAR