BEGIN:VCALENDAR
VERSION:2.0
PRODID:-//wp-events-plugin.com//6.4.10//EN
TZID:Europe/Vienna
X-WR-TIMEZONE:Europe/Vienna
BEGIN:VEVENT
UID:1056@verkehrsakademie.at
DTSTART;TZID=Europe/Vienna:20181204T000000
DTEND;TZID=Europe/Vienna:20190424T000000
DTSTAMP:20181107T141648Z
URL:https://www.verkehrsakademie.at/events/horizon-2020-ausschreibungen-zu
 -smart-green-and-integrated-transport/
SUMMARY:HORIZON 2020 – Ausschreibungen zu „Smart\, green and integrated
  transport“
DESCRIPTION:Weitere Ausschreibungen in Horizon 2020 zu 'Smart\, green and i
 ntegrated transport' starten am 4. Dezember 2018 und enden mit 24. April 2
 019\, 17 Uhr.\n\nInformation\n\n&nbsp\;
CATEGORIES:Ausschreibungen
END:VEVENT
BEGIN:VTIMEZONE
TZID:Europe/Vienna
X-LIC-LOCATION:Europe/Vienna
BEGIN:STANDARD
DTSTART:20181028T020000
TZOFFSETFROM:+0200
TZOFFSETTO:+0100
TZNAME:CET
END:STANDARD
BEGIN:DAYLIGHT
DTSTART:20190331T030000
TZOFFSETFROM:+0100
TZOFFSETTO:+0200
TZNAME:CEST
END:DAYLIGHT
END:VTIMEZONE
END:VCALENDAR