BEGIN:VCALENDAR
VERSION:2.0
PRODID:-//wp-events-plugin.com//6.4.10//EN
TZID:Europe/Vienna
X-WR-TIMEZONE:Europe/Vienna
BEGIN:VEVENT
UID:1112@verkehrsakademie.at
DTSTART;TZID=Europe/Vienna:20191007T093000
DTEND;TZID=Europe/Vienna:20191007T150000
DTSTAMP:20190731T140228Z
URL:https://www.verkehrsakademie.at/events/horizon-2020-transport-info-day
 -2/
SUMMARY:Horizon 2020 Transport info day
DESCRIPTION:Die europäische Kommission hat die Arbeitsprogramme für die k
 ommenden Ausschreibungen des Forschungsprogramms Horizon2020 im Bereich Tr
 ansport veröffentlicht. Die Calls gliedern sich in die drei großen Berei
 che „Mobility for Growth“\, „Digitising and Transforming European In
 dustry and Services: Automated Road Transport“ sowie „Building a low-c
 arbon\, climate resilient future: Green Vehicles“. Die künftigen Calls 
 zu den einzelnen ausgeschriebenen Themenstellungen werden am 3.9.2019 und 
 3.12.2019 geöffnet.\n\nInformation
CATEGORIES:Ausschreibungen,Veranstaltungen
LOCATION:European Commission's Charlemagne building\, Rue de la Loi 170\, B
 rüssel\, Belgien
GEO:50.84360539999999;4.380077400000005
X-APPLE-STRUCTURED-LOCATION;VALUE=URI;X-ADDRESS=Rue de la Loi 170\, Brüsse
 l\, Belgien;X-APPLE-RADIUS=100;X-TITLE=European Commission's Charlemagne b
 uilding:geo:50.84360539999999,4.380077400000005
END:VEVENT
BEGIN:VTIMEZONE
TZID:Europe/Vienna
X-LIC-LOCATION:Europe/Vienna
BEGIN:DAYLIGHT
DTSTART:20190331T030000
TZOFFSETFROM:+0100
TZOFFSETTO:+0200
TZNAME:CEST
END:DAYLIGHT
END:VTIMEZONE
END:VCALENDAR