BEGIN:VCALENDAR
VERSION:2.0
PRODID:-//wp-events-plugin.com//6.4.10//EN
TZID:Europe/Vienna
X-WR-TIMEZONE:Europe/Vienna
BEGIN:VEVENT
UID:69@verkehrsakademie.at
DTSTART;TZID=Europe/Vienna:20151112T090000
DTEND;TZID=Europe/Vienna:20151112T173000
DTSTAMP:20150908T145213Z
URL:https://www.verkehrsakademie.at/events/horizon-2020-zweite-ausschreibu
 ngsrunde-innsbruck/
SUMMARY:Horizon 2020: Zweite Ausschreibungsrunde (Innsbruck)
DESCRIPTION:Neue Forschungs- und Innovationsschwerpunkte 2016/17\nHorizon 2
 020 startet die zweite große Ausschreibungsrunde für die Jahre 2016/17. 
 Bereits im Herbst werden die ersten "Calls" veröffentlicht. Die FFG als n
 ationale Kontaktstelle informiert Sie im Rahmen mehrerer Veranstaltungen 
 auf nationaler und regionaler Ebene über inhaltliche Schwerpunkte\, bishe
 rige Erfahrungen und Ergebnisse. Gemeinsam mit ExpertInnen der Europäisch
 en Kommission und nationalen Stakeholdern werden Möglichkeiten und Anford
 erungen in Bezug auf europäische Forschungs- und Innovationsanträge aufg
 ezeigt.\n\nWeitere Informationen
CATEGORIES:Veranstaltungen
LOCATION:Haus der Begegnung\, Rennweg 12\, Innsbruck\, 6020\, Österreich
GEO:47.2737261;11.397510099999976
X-APPLE-STRUCTURED-LOCATION;VALUE=URI;X-ADDRESS=Rennweg 12\, Innsbruck\, 60
 20\, Österreich;X-APPLE-RADIUS=100;X-TITLE=Haus der Begegnung:geo:47.2737
 261,11.397510099999976
END:VEVENT
BEGIN:VTIMEZONE
TZID:Europe/Vienna
X-LIC-LOCATION:Europe/Vienna
BEGIN:STANDARD
DTSTART:20151025T020000
TZOFFSETFROM:+0200
TZOFFSETTO:+0100
TZNAME:CET
END:STANDARD
END:VTIMEZONE
END:VCALENDAR