BEGIN:VCALENDAR
VERSION:2.0
PRODID:-//wp-events-plugin.com//6.4.10//EN
TZID:Europe/Vienna
X-WR-TIMEZONE:Europe/Vienna
BEGIN:VEVENT
UID:1227@verkehrsakademie.at
DTSTART;TZID=Europe/Vienna:20211020T090000
DTEND;TZID=Europe/Vienna:20211020T120000
DTSTAMP:20210512T191347Z
URL:https://www.verkehrsakademie.at/events/https-www-kitzler-verlag-at-das
 -allgemeine-ursprungszeugnis-html-2/
SUMMARY:Webinar Das allgemeine Ursprungszeugnis
DESCRIPTION:Der nichtpräferenzielle Ursprung dient Staaten weltweit als 
 rechtliche Grundlage\, um handels- oder ordnungspolitische Maßnahmen durc
 hsetzen zu können.\n\nLiegt bei der Einfuhrverzollung kein Ursprungszeug
 nis vor\, so kann die Ware nicht importiert werden. Bis zum Nachreichen 
 des Dokuments muss die Ware mit zum Teil erheblichen Kosten von der Zollv
 erwaltung eingelagert werden.\n\nManche Importstaaten verlangen Ursprungs
 zeugnisse nur für bestimmte Warengruppen\, andere Länder bestehen gener
 ell darauf.\n\nErfahren Sie in diesem Seminar alles Wichtige über die ni
 cht-präferenziellen Ursprungsregeln:\n\n 	Definitionen und rechtliche Gru
 ndlagen\n 	Ursprungsregeln\n 	Das Ursprungszeugnis\; richtiges Ausfüllen\
 n 	Erforderliche Nachweise\n 	Beispiele aus der Praxis\n 	uvm!\n\nBeinhalt
 et: virtuelle Teilnahme am Seminar mit Fragemöglichkeit\, PowerPoint Pr
 äsentation als pdf-Datei. Im Anschluss an die Schulung erhalten Sie eine 
 Teilnahmebestätigung.\n\nTechnische Voraussetzung: Sie benötigen einen 
 internetfähigen Rechner / Laptop / Tablet oder Smartphone\, um am Trainin
 g teilnehmen zu können. Sie erhalten vor Beginn des Webinars von uns den 
 Link und die Zugangsdaten zur Teilnahme an der Onlineschulung. Durch das K
 licken auf diesen Link\, kurz vor der Schulung\, wählen Sie sich ein und 
 gelangen in einen virtuellen Warteraum. Sobald die Übertragung von unsere
 m Moderator gestartet wird\, nehmen Sie automatisch daran teil.\n\nZur Vor
 bereitung des Trainings erhalten Sie vor dem Webinar\, zusammen mit der Z
 usendung des Zugangslinks\, die Präsentation als pdf-Datei. Vor dem Webin
 ar können wir Ihren Zugang gemeinsam testen\, damit ein reibungsloser Abl
 auf gewährleistet ist. Auch während des Webinars unterstützen wir Sie\,
  falls Probleme auftauchen sollten.\n\n\nZielgruppen:\nLeiter und Mitarbei
 ter von Zoll- und Exportabteilungen\nAngestellte im Speditionsbereich\n\nW
 ebinar Das allgemeine_Ursprungszeugnis
CATEGORIES:Weiterbildung
END:VEVENT
BEGIN:VTIMEZONE
TZID:Europe/Vienna
X-LIC-LOCATION:Europe/Vienna
BEGIN:DAYLIGHT
DTSTART:20210328T030000
TZOFFSETFROM:+0100
TZOFFSETTO:+0200
TZNAME:CEST
END:DAYLIGHT
END:VTIMEZONE
END:VCALENDAR