BEGIN:VCALENDAR
VERSION:2.0
PRODID:-//wp-events-plugin.com//6.4.10//EN
TZID:Europe/Vienna
X-WR-TIMEZONE:Europe/Vienna
BEGIN:VEVENT
UID:1343@verkehrsakademie.at
DTSTART;TZID=Europe/Vienna:20210527T130000
DTEND;TZID=Europe/Vienna:20210527T180000
DTSTAMP:20210201T124155Z
URL:https://www.verkehrsakademie.at/events/https-www-kitzler-verlag-at-tir
 oler-gefahrgut-tag-html/
SUMMARY:5. Tiroler Gefahrgut-Tag 2020/21 für die Praxis
DESCRIPTION:Der "5. Tiroler Gefahrgut-Tag 2020/21 für die Praxis" bringt 
 Ihr Wissen in Sachen Gefahrgut an nur einem Nachmittag auf den neuesten St
 and!\n\nArbeitsschwerpunkte:\n\n 	Die Änderungen im ADR &amp\; RID 2021\n
  	Die häufigsten Fehler beim Gefahrguttransport\n 	Die Gefahrgutkontrolle
 n der Exekutive\n 	Ladungssicherung für Praktiker\n 	Verwaltungsstrafverf
 ahren – was tun?\n 	u.v.m.!\n\n&nbsp\;\n\nZielgruppe:\n\n 	Gefahrgutbeau
 ftragte (Externe und firmeninterne Personen)\n 	Geschäftsführer und Mita
 rbeiter von Unternehmen\, die mit gefährlichen Gütern befasst sind\n 	He
 rstellende Unternehmen (z.B. Chemie\, Farben und Lacke uvm.)\n 	Verlader\,
  Absender\, Auftraggeber und Empfänger\, die im Bereich der Beförderung 
 sowie dem Be- und Entladen gefährlicher Güter tätig sind\n 	Für den Ar
 beitnehmerschutz verantwortliche personen\n 	Sicherheitsfachkraft\, Brands
 chutzbeauftragte\n 	Verantwortliche Personen in Ministerien\, Behörden\, 
 Ämtern der Landesregierungen\, Kammern und Gemeinden\n\n&nbsp\;\n\nInkl. 
 Handbuch "Ladungssicherung für Praktiker" (4. aktualisierte Auflage 2020)
 !\n\n5. Tiroler GG-Tag 2021 \n\n&nbsp\;
CATEGORIES:Veranstaltungen,Weiterbildung
LOCATION:AC Hotel by Marriott Innsbruck\, Salurner Straße 15\, 6020 Innsbr
 uck \, Österreich
GEO:47.262251;11.395809
X-APPLE-STRUCTURED-LOCATION;VALUE=URI;X-ADDRESS=Salurner Straße 15\, 6020 
 Innsbruck \, Österreich;X-APPLE-RADIUS=100;X-TITLE=AC Hotel by Marriott I
 nnsbruck:geo:47.262251,11.395809
END:VEVENT
BEGIN:VTIMEZONE
TZID:Europe/Vienna
X-LIC-LOCATION:Europe/Vienna
BEGIN:DAYLIGHT
DTSTART:20210328T030000
TZOFFSETFROM:+0100
TZOFFSETTO:+0200
TZNAME:CEST
END:DAYLIGHT
END:VTIMEZONE
END:VCALENDAR