BEGIN:VCALENDAR
VERSION:2.0
PRODID:-//wp-events-plugin.com//6.4.10//EN
TZID:Europe/Vienna
X-WR-TIMEZONE:Europe/Vienna
BEGIN:VEVENT
UID:1354@verkehrsakademie.at
DTSTART;TZID=Europe/Vienna:20210610T140000
DTEND;TZID=Europe/Vienna:20210610T150000
DTSTAMP:20210512T190955Z
URL:https://www.verkehrsakademie.at/events/https-www-kitzler-verlag-at-web
 inar-zollgut-erkennen-und-richtig-behandeln-html/
SUMMARY:Webinar Zollgut erkennen und richtig behandeln
DESCRIPTION:In diesem Seminar erfahren Sie\, worauf bei der Übernahme von 
 Sendungen im Wareneingang aus zollrechtlicher Sicht geachtet werden sollt
 e und wie Sie sich richtig verhalten\, um zollrechtliche Haftungsrisiken
  zu vermeiden.\n\nDabei werden anhand von praktischen Beispielen und Dok
 umenten übliche Szenen aus der betrieblichen Praxis erklärt und vermitt
 elt.\n\nSeminarschwerpunkte:\n\n 	Kurzüberblick rechtliche Rahmenbedingun
 gen und Haftungsrisiken\n 	Erkennen von Zollgut / unverzollter Ware\n 	Mö
 glichkeiten zur Prüfung des Zollstatus\n 	Austausch von Informationen und
  Dokumenten mit Frächtern und Dienstleistern\n 	Verhalten bei Unsicherhei
 t\n 	Handlungsempfehlungen zu Abläufen in der betrieblichen Praxis\n\n&nb
 sp\;\n\nBeinhaltet: virtuelle Teilnahme am Seminar mittels ZOOM mit Fragem
 öglichkeit sowie PowerPoint Präsentation als pdf-Datei. Im Anschluss an 
 die Schulung erhalten Sie eine Teilnahmebestätigung.\n\nTechnische Voraus
 setzung: Sie benötigen einen internetfähigen Rechner / Laptop / Tablet 
 oder Smartphone\, um am Training teilnehmen zu können. Sie erhalten vor B
 eginn des Webinars von uns den Link und die Zugangsdaten zur Teilnahme an 
 der Onlineschulung. Durch das Klicken auf diesen Link\, kurz vor der Schul
 ung\, wählen Sie sich ein und gelangen in einen virtuellen Warteraum. Sob
 ald die Übertragung von unserem Moderator gestartet wird\, nehmen Sie aut
 omatisch daran teil.\n\nZur Vorbereitung des Trainings erhalten Sie vor d
 em Webinar\, zusammen mit der Zusendung des Zugangslinks\, die Präsentati
 on als pdf-Datei. Ihre E-Mailadresse wird an den Moderator/Referenten des 
 Online-Trainings weitergegeben\, damit eine Anmeldung zur Schulung möglic
 h ist. Vor dem Webinar können wir Ihren Zugang gemeinsam testen\, damit e
 in reibungsloser Ablauf gewährleistet ist. Auch während des Webinars un
 terstützen wir Sie\, falls Probleme auftauchen sollten. \n\nZielgruppe:\
 n\n 	Mitarbeiter im Wareneingang\n 	Verantwortliche in exportierenden und 
 importierenden Unternehmen\n 	Spediteure\, Exportberater\n 	Verantwortlich
 e aus Ministerien\, Ämtern\,  Kammern &amp\; Interessensvertretungen\n\n
 &nbsp\;\n\nFlyer Webinar Zollgut erkennen und richtig behandeln \n\n&nbsp
 \;\n\n&nbsp\;\n\n&nbsp\;
CATEGORIES:Weiterbildung
END:VEVENT
BEGIN:VTIMEZONE
TZID:Europe/Vienna
X-LIC-LOCATION:Europe/Vienna
BEGIN:DAYLIGHT
DTSTART:20210328T030000
TZOFFSETFROM:+0100
TZOFFSETTO:+0200
TZNAME:CEST
END:DAYLIGHT
END:VTIMEZONE
END:VCALENDAR