BEGIN:VCALENDAR
VERSION:2.0
PRODID:-//wp-events-plugin.com//6.4.10//EN
TZID:Europe/Vienna
X-WR-TIMEZONE:Europe/Vienna
BEGIN:VEVENT
UID:1355@verkehrsakademie.at
DTSTART;TZID=Europe/Vienna:20210705T150000
DTEND;TZID=Europe/Vienna:20210706T173000
DTSTAMP:20210512T191050Z
URL:https://www.verkehrsakademie.at/events/https-www-kitzler-verlag-at-web
 inar-zollwert-html/
SUMMARY:Webinar Zollwert - Die Ermittlung des Zollwerts in der Praxis
DESCRIPTION:Die Bemessungsgrundlage für die Berechnung der Zölle und so
 nstigen Eingangsabgaben ist der Zollwert.\n\nBestimmungen über die Ermit
 tlung des Zollwerts finden sich im Zollkodex der Union und seiner Delegi
 erten- bzw. Durchführungsrechtsakte. Die Regelungen des Zollwerts basiere
 n im Wesentlichen auf völkerrechtlichen Verträgen\, wie dem GATT und de
 m Übereinkommen zur Durchführung des Art. VII GATT.\n\nIm Falle eines V
 erkaufs von Waren in die EU ist vorrangig der Kaufpreis des maßgebenden
  Kaufgeschäftes (Transaktionswert) als Zollwert heranzuziehen und gegeben
 enfalls nach den Bestimmungen der Artikel 71 und 72 des Zollkodex anzupass
 en. Der Kaufpreis und etwaige Anpassungen sind in der Zollanmeldung zu e
 rklären und gegebenenfalls dem Zollamt in geeigneter Form nachzuweisen.\n
 \nFür Rechtsgeschäfte\, denen kein Kaufpreis zu Grunde liegt (z.B. Komm
 issionsgeschäfte) oder der Kaufpreis nicht als Transaktionswert herangezo
 gen werden kann (z.B. eine Verbundenheit mit Preisbeeinflussung liegt vor)
 \, sind die nachrangigen Bewertungsmethoden (z.B. Transaktionswert gleiche
 r oder ähnlicher Waren) zur Bestimmung des Zollwerts heranzuziehen.\n\n
 Arbeitsschwerpunkte:\n\n 	Überblick über Rechtsvorschriften und deren Tr
 ansaktionswert\n 	Maßgebendes Kaufgeschäft\n 	Bestandteile des Transakti
 onswertes (Hinzurechnungs- bzw. abzugsfähige Kosten)\n 	Das Verfahren zur
  Bewilligung zur vereinfachten Festlegung von Bestandteilen des Transaktio
 nswertes (z.B. Lizenzgebühren)\n 	Antrags- und Bewilligungsdaten\n 	Nachr
 angige Bewertungsmethoden\n 	Angaben in der Zollanmeldung\n\n&nbsp\;\n\nBe
 inhaltet: virtuelle Teilnahme am Seminar (max. 12 Seminarteilnehmer*innen)
  mit Fragemöglichkeit sowie PowerPoint Präsentation als pdf-Datei. Im An
 schluss an die Schulung erhalten Sie eine Teilnahmebestätigung.\n\nTechni
 sche Voraussetzung: Sie benötigen einen internetfähigen Rechner / Lapto
 p / Tablet oder Smartphone\, um am Training teilnehmen zu können. Sie erh
 alten vor Beginn des Webinars von uns den Link und die Zugangsdaten zur Te
 ilnahme an der Onlineschulung. Durch das Klicken auf diesen Link\, kurz vo
 r der Schulung\, wählen Sie sich ein und gelangen in einen virtuellen War
 teraum. Sobald die Übertragung von unserem Moderator gestartet wird\, neh
 men Sie automatisch daran teil.\n\nZur Vorbereitung des Trainings erhalten
  Sie vor dem Webinar\, zusammen mit der Zusendung des Zugangslinks\, die P
 räsentation als pdf-Datei. Vor dem Webinar können wir Ihren Zugang gemei
 nsam testen\, damit ein reibungsloser Ablauf gewährleistet ist. Auch wäh
 rend des Webinars unterstützen wir Sie\, falls Probleme auftauchen sollte
 n.\n\nZielgruppe:\n\n 	Leiter der Zollabteilung sowie Zollverantwortliche\
 n 	Import- und Exportmanager\n 	Leiter und Mitarbeiter aus den Bereichen L
 ogistik\, Einkauf\, Vertrieb und Steuern\nsowie an Steuerberater\, Wirtsch
 aftsprüfer und an Rechtsanwälte im Zollbereich.\n\n&nbsp\;\n\nFlyer Webi
 nar Die Ermittlung des Zollwerts in der Praxis\n\n&nbsp\;\n\n&nbsp\;\n\n&n
 bsp\;
CATEGORIES:Weiterbildung
END:VEVENT
BEGIN:VTIMEZONE
TZID:Europe/Vienna
X-LIC-LOCATION:Europe/Vienna
BEGIN:DAYLIGHT
DTSTART:20210328T030000
TZOFFSETFROM:+0100
TZOFFSETTO:+0200
TZNAME:CEST
END:DAYLIGHT
END:VTIMEZONE
END:VCALENDAR