BEGIN:VCALENDAR
VERSION:2.0
PRODID:-//wp-events-plugin.com//6.4.10//EN
TZID:Europe/Vienna
X-WR-TIMEZONE:Europe/Vienna
BEGIN:VEVENT
UID:1353@verkehrsakademie.at
DTSTART;TZID=Europe/Vienna:20210615T133000
DTEND;TZID=Europe/Vienna:20210615T160000
DTSTAMP:20210512T191430Z
URL:https://www.verkehrsakademie.at/events/https-www-kitzler-verlag-at-web
 inar-zollwissen-fur-geschaftsfuhrer-und-verantwortliche-im-unternehmen-htm
 l/
SUMMARY:Webinar Zollwissen für Geschäftsführer und Verantwortliche im Un
 ternehmen
DESCRIPTION:Das Seminar zielt darauf ab\, Geschäftsführern und verantwor
 tlichen Mitarbeitern das relevante Zollwissen für die Praxis zu vermittel
 n.\n\nAnhand von zahlreichen praktischen Beispielen wird vermittelt\, welc
 he zollrechtlichen Risiken bei Unternehmen als Importeur oder Exporteur 
 üblicherweise bestehen und welche Maßnahmen dazu geeignet sind\, um dies
 e Risiken zu minimieren.\n\nDarüber hinaus werden Ansätze und Beispiele 
 für Optionen vermittelt\, wie die Zollfunktion in der Aufbauorganisation 
 eines Unternehmens eingegliedert werden kann und welche Möglichkeiten es 
 zur Identifizierung von Einsparungspotenzialen gibt.\n\nDie jeweiligen Inh
 alte werden dabei aus Sicht eines Unternehmens als Importeur bzw. Exporteu
 r beleuchtet.\n\n&nbsp\;\n\nArbeitsschwerpunkte:\n\n 	Grundlagen / Überb
 lick Zollrecht\n 	Zollverfahren\, Verfahrensablauf Import / Export\n 	"Big
  Three" (Zolltarifnummer\, Zollwert\, Warenursprung und Präferenzabkomm
 en)\n 	Haftungsrisiken und Sanktionen bei verstößen gegen zollrechtliche
  Vorschriften\n 	Maßgebende Faktoren für die Risikoexposition im Zollr
 echt\, Risiken in einzelnen Unternehmensbereichen\n 	Einbindung und Kommun
 ikation zwischen Unternehmen\, Speditionen und Zolldienstleister\n 	Festl
 egung von Rollen und Verantwortlichkeiten im Unternehmen - Überlegungen z
 ur Schaffung der passenden Aufbauorganisation\n 	Compliance-Standards als 
 Importeur / Exporteur\n\n\nBeinhaltet: virtuelle Teilnahme am Webinar\, P
 owerPoint Präsentation als pdf-Datei. Im Anschluss an die Schulung erhalt
 en Sie eine Teilnahmebestätigung.\n\nTechnische Voraussetzung: Sie benö
 tigen einen internetfähigen Rechner / Laptop / Tablet oder Smartphone\, 
 um am Training teilnehmen zu können. Sie erhalten vor Beginn des Webinars
  von uns den Link und die Zugangsdaten zur Teilnahme an der Onlineschulung
 . Durch das Klicken auf diesen Link\, kurz vor der Schulung\, wählen Sie 
 sich ein und gelangen in einen virtuellen Warteraum. Sobald die Übertragu
 ng von unserem Moderator gestartet wird\, nehmen Sie automatisch daran tei
 l.\n\nZur Vorbereitung des Trainings erhalten Sie vor dem Webinar\, zusam
 men mit der Zusendung des Zugangslinks\, die Präsentation als pdf-Datei. 
 Ihre E-Mailadresse wird an den Moderator/Referenten des Online-Trainings w
 eitergegeben\, damit eine Anmeldung zur Schulung möglich ist. Vor dem Web
 inar können wir Ihren Zugang gemeinsam testen\, damit ein reibungsloser A
 blauf gewährleistet ist. Auch während des Webinars unterstützen wir Si
 e\, falls Probleme auftauchen sollten. \n\nZielgruppe:\n\n 	Geschäftsfü
 hrer\n 	Verantwortliche Mitarbeiter und Angestellte\n 	Export- und Importl
 eiter\n 	Exportberater\n 	Verantwortliche aus Ministerien\, Ämtern\,  Ka
 mmern &amp\; Interessensvertretungen\n\n&nbsp\;\n\nFlyer Webinar Zollwisse
 n für GF und Verantwortliche  \n\n&nbsp\;\n\n&nbsp\;\n\n&nbsp\;\n\n&nbs
 p\;
CATEGORIES:Weiterbildung
END:VEVENT
BEGIN:VTIMEZONE
TZID:Europe/Vienna
X-LIC-LOCATION:Europe/Vienna
BEGIN:DAYLIGHT
DTSTART:20210328T030000
TZOFFSETFROM:+0100
TZOFFSETTO:+0200
TZNAME:CEST
END:DAYLIGHT
END:VTIMEZONE
END:VCALENDAR