BEGIN:VCALENDAR
VERSION:2.0
PRODID:-//wp-events-plugin.com//6.4.10//EN
TZID:Europe/Vienna
X-WR-TIMEZONE:Europe/Vienna
BEGIN:VEVENT
UID:156@verkehrsakademie.at
DTSTART;TZID=Europe/Vienna:20150924T100000
DTEND;TZID=Europe/Vienna:20150924T133000
DTSTAMP:20150812T093635Z
URL:https://www.verkehrsakademie.at/events/iaa-symposium-urbane-mobilitaet
 -2030/
SUMMARY:IAA-Symposium „Urbane Mobilität 2030“
DESCRIPTION:Der Trend zur Urbanisierung ist nicht nur auf die Entwicklungs-
  und Schwellenländer beschränkt\, sondern seit der Jahrtausendwende auch
  in Deutschland im Gange. Prognosen sehen für die deutschen Großstädte 
 in naher Zukunft ein beachtliches Wachstum. Zugleich bildet sich unter vie
 len jungen Stadtbewohnern ein neues multimodales Mobilitätsverhalten hera
 us\, wonach die Verkehrsmittelwahl pragmatisch und situationsabhängig erf
 olgt. Beides verlangt nach neuen Mobilitätsangeboten.\n\nDies veranlasst 
 die Automobilhersteller und andere Player\, wie zum Beispiel die Deutsche 
 Bahn\, dazu\, ihre traditionellen Angebote zu überdenken und sich weiterz
 uentwickeln zu verkehrsträgerübergreifenden Mobilitätsanbietern und -be
 ratern.\n\nDoch auch der klassische Motorisierte Individualverkehr (MIV) w
 ird in der Stadt weiterhin seinen Platz haben. Dass er sich noch besser un
 d harmonischer ins übrige Stadtleben einfügt\, dafür sorgt die technisc
 he Weiterentwicklung der Fahrzeuge: elektrisch betrieben und auf Wunsch se
 lbstfahrend\, werden sie noch sauberer\, leiser und sicherer\, werden Plat
 z sparender und auch für hochbetagte Personen noch problemlos nutzbar sei
 n.\n\nWas kann das Auto der Zukunft und wie fügt es sich ins Stadtleben e
 in? Wie sehen die künftigen Geschäftsmodelle der Automobilhersteller und
  der ÖV-Anbieter aus? Bewegen sie sich aufeinander zu oder verschmelzen s
 ogar miteinander? Und wie verändert sich der Wirtschaftsverkehr in der St
 adt?\n\nDiese und weitere Fragen sind Gegenstand unseres Symposiums\, das 
 sich damit an alle richtet\, die einen Blick in die Zukunft der urbanen Mo
 bilität werfen und mit hochkarätigen Experten darüber diskutieren wolle
 n.\n\nProgramm und Anmeldung
CATEGORIES:Veranstaltungen
LOCATION:Messe Frankfurt\, Ludwig-Erhard-Anlage 1\, Frankfurt am Main\, Deu
 tschland
GEO:50.1119923;8.652248399999962
X-APPLE-STRUCTURED-LOCATION;VALUE=URI;X-ADDRESS=Ludwig-Erhard-Anlage 1\, Fr
 ankfurt am Main\, Deutschland;X-APPLE-RADIUS=100;X-TITLE=Messe Frankfurt:g
 eo:50.1119923,8.652248399999962
END:VEVENT
BEGIN:VTIMEZONE
TZID:Europe/Vienna
X-LIC-LOCATION:Europe/Vienna
BEGIN:DAYLIGHT
DTSTART:20150329T030000
TZOFFSETFROM:+0100
TZOFFSETTO:+0200
TZNAME:CEST
END:DAYLIGHT
END:VTIMEZONE
END:VCALENDAR