BEGIN:VCALENDAR
VERSION:2.0
PRODID:-//wp-events-plugin.com//6.4.10//EN
TZID:Europe/Vienna
X-WR-TIMEZONE:Europe/Vienna
BEGIN:VEVENT
UID:356@verkehrsakademie.at
DTSTART;TZID=Europe/Vienna;VALUE=DATE:20161110
DTEND;TZID=Europe/Vienna;VALUE=DATE:20161112
DTSTAMP:20160823T134345Z
URL:https://www.verkehrsakademie.at/events/inair-2016-int-conference-on-ai
 r-transport/
SUMMARY:Inair 2016 - Int. Conference on Air transport
DESCRIPTION:The INAIR conference is a forum in which Industry and Academia 
 meet to exchange ideas and set up common challenges. The interaction betwe
 en researchers and industry representatives is key in order to come up wit
 h innovative solutions for the challenges of the future. INAIR 2016 will b
 e hosted by the Air transport department in Vienna on November 10-11\, 201
 6.\n\nFurther info
CATEGORIES:Veranstaltungen
LOCATION:Wien\, Wien\, Wien\, Österreich
GEO:48.2081743;16.37381890000006
X-APPLE-STRUCTURED-LOCATION;VALUE=URI;X-ADDRESS=Wien\, Wien\, Österreich;X
 -APPLE-RADIUS=100;X-TITLE=Wien:geo:48.2081743,16.37381890000006
END:VEVENT
BEGIN:VTIMEZONE
TZID:Europe/Vienna
X-LIC-LOCATION:Europe/Vienna
BEGIN:STANDARD
DTSTART:20161030T020000
TZOFFSETFROM:+0200
TZOFFSETTO:+0100
TZNAME:CET
END:STANDARD
END:VTIMEZONE
END:VCALENDAR