BEGIN:VCALENDAR
VERSION:2.0
PRODID:-//wp-events-plugin.com//6.4.10//EN
TZID:Europe/Vienna
X-WR-TIMEZONE:Europe/Vienna
BEGIN:VEVENT
UID:837@verkehrsakademie.at
DTSTART;TZID=Europe/Vienna;VALUE=DATE:20180918
DTEND;TZID=Europe/Vienna;VALUE=DATE:20180922
DTSTAMP:20180320T104621Z
URL:https://www.verkehrsakademie.at/events/innotrans-2018/
SUMMARY:InnoTrans 2018
DESCRIPTION:\n\n\n\n\n\n\nDie InnoTrans ist die internationale Leitmesse f
 ür Verkehrstechnik\, die alle zwei Jahre in Berlin stattfindet. Aufgeteil
 t in die fünf Messesegmente Railway Technology\, Railway Infrastructure\,
  Public Transport\, Interiors und Tunnel Construction\, belegt die InnoTra
 ns alle 41 Hallen des Berliner Messegeländes.\n\n\nInformation\n\n\n\n\n\
 n
CATEGORIES:Veranstaltungen
LOCATION:Messe Berlin GmbH\,  ExpoCenter City\, Messedamm 22\, Berlin\, 140
 55\, Deutschland
GEO:52.5041661;13.273653999999965
X-APPLE-STRUCTURED-LOCATION;VALUE=URI;X-ADDRESS=Messedamm 22\, Berlin\, 140
 55\, Deutschland;X-APPLE-RADIUS=100;X-TITLE=Messe Berlin GmbH\,  ExpoCente
 r City:geo:52.5041661,13.273653999999965
END:VEVENT
BEGIN:VTIMEZONE
TZID:Europe/Vienna
X-LIC-LOCATION:Europe/Vienna
BEGIN:DAYLIGHT
DTSTART:20180325T030000
TZOFFSETFROM:+0100
TZOFFSETTO:+0200
TZNAME:CEST
END:DAYLIGHT
END:VTIMEZONE
END:VCALENDAR