BEGIN:VCALENDAR
VERSION:2.0
PRODID:-//wp-events-plugin.com//6.4.10//EN
TZID:Europe/Vienna
X-WR-TIMEZONE:Europe/Vienna
BEGIN:VEVENT
UID:549@verkehrsakademie.at
DTSTART;TZID=Europe/Vienna;VALUE=DATE:20160426
DTEND;TZID=Europe/Vienna;VALUE=DATE:20160428
DTSTAMP:20170313T090907Z
URL:https://www.verkehrsakademie.at/events/intensivseminar-optimierung-von
 -logistikausschreibungen-und-verhandlungen/
SUMMARY:Intensivseminar Optimierung von Logistikausschreibungen und -verhan
 dlungen
DESCRIPTION:Das Seminar gibt einen intensiven betriebswirtschaftlichen und 
 juristischen Überblick über die Best Practice Gestaltungsmöglichkeiten 
 von Ausschreibungen und Vertragsverhandlungen. Dank des Workshop-Charakter
 s und der begrenzten Teilnehmerzahl können auch individuelle Fragen inten
 siv behandelt werden.\n\nWeitere Infos
CATEGORIES:Weiterbildung
LOCATION:Wien\, Wien\, Wien\, Österreich
GEO:48.2081743;16.37381890000006
X-APPLE-STRUCTURED-LOCATION;VALUE=URI;X-ADDRESS=Wien\, Wien\, Österreich;X
 -APPLE-RADIUS=100;X-TITLE=Wien:geo:48.2081743,16.37381890000006
END:VEVENT
BEGIN:VTIMEZONE
TZID:Europe/Vienna
X-LIC-LOCATION:Europe/Vienna
BEGIN:DAYLIGHT
DTSTART:20160327T030000
TZOFFSETFROM:+0100
TZOFFSETTO:+0200
TZNAME:CEST
END:DAYLIGHT
END:VTIMEZONE
END:VCALENDAR