BEGIN:VCALENDAR
VERSION:2.0
PRODID:-//wp-events-plugin.com//6.4.10//EN
TZID:Europe/Vienna
X-WR-TIMEZONE:Europe/Vienna
BEGIN:VEVENT
UID:1229@verkehrsakademie.at
DTSTART;TZID=Europe/Vienna:20200505T090000
DTEND;TZID=Europe/Vienna:20200505T170000
DTSTAMP:20200213T121949Z
URL:https://www.verkehrsakademie.at/events/kombi-seminar-gueter-des-doppel
 ten-verwendungszwecks-sanktionen-und-embargos-2/
SUMMARY:Kombi-Seminar Güter des doppelten Verwendungszwecks &amp\; Sanktio
 nen und Embargos
DESCRIPTION:Die Güterliste des Anhang I der Verordnung (EG) Nr. 428/2009
  (sog. Dual-Use Verordnung) - die EU-Liste der Güter mit doppeltem Verwe
 ndungszweck - ist Hauptanknüpfungspunkt der Ausfuhrkontrolle. Nach welc
 hem Schema Sie Ihre Güterprüfung vornehmen können\, erfahren Sie in d
 iesem Seminar. Wenn Sie U.S.-kontrollierte Güter haben\, kann Ihr Reexp
 ort genehmigungspflichtig sein. Wann eine U.S. Reexportgenehmigungspflich
 t vorliegt und wie die „de-minimis“-Regel anzuwenden ist\, wird eben
 falls besprochen.\n\nSowohl die EU\, als auch die USA kontrollieren den T
 ransfer bestimmter Technologien. Ist Ihr Unternehmen fit für die Indust
 rie 4.0 unter Einhaltung der Exportkontrolle? Unter welchen Voraussetzun
 gen ein kontrollierter Technologietransfer gegeben ist\, wird in diesem 
 Seminar erläutert.\n\nArbeitsschwerpunkte:\nAnknüpfungspunkte der Risiko
 analyse\nkontrollierte Güter\n"de-mininis"-Regel\nEU/österreichische und
  U.S. Embargoländer\nU.S. Sanktionslisten &amp\;"secundary sanctions" / E
 U-Sanktionslisten\n\nEmbargoländer sind auch zu beachten\, wenn eine be
 stimmte Endverwendung mit Gütern des doppelten Verwendungszwecks gegeben
  ist. Dies gilt sowohl für die EU-\, als auch für die U.S. Re-Exportkon
 trolle. Welche Embargos aktuell gelten\, hören Sie in diesem Spezialsemi
 nar.\n\nDie Iran und Russland Sanktionsbestimmungen werden im Detail besp
 rochen. Neben den Parallelen zwischen den EU und U.S. Bestimmungen erfahr
 en Sie hier auch\, was Sie als U.S. Re-Exporteur zusätzlich zu den EU S
 anktionen zu beachten haben. Der einseitige Ausstieg der USA aus dem Joi
 nt Comprehensive Plan of Action (JCPOA) mit Iran wirkt sich auf U.S.-ve
 rbundene Unternehmen aus!\n\nWelche Regelungen gelten aktuell? Denn sowoh
 l Geschäftspartner\, bestimmte Endverwender (Sanktionslisten) als auch d
 ie Endverwendung müssen kontrolliert werden. Was sind „red flags“?
 \n\nArbeitsschwerpunkte:\nRisikoanalyse im Außenwirtschafstrecht mit der 
 U.S. (Re)Exportkontrolle imZusammenhang mit\n\n 	EU/österreichischen und 
 U.S.-Embargobestimmungen\n 	EU und U.S. Sanktionslisten\n\n&nbsp\;\n\nDopp
 elterVerwendungszweck &amp\; SanktionenEmbargos
CATEGORIES:Veranstaltungen,Weiterbildung
LOCATION:Hotel Novapark Graz\, Fischeraustraße 22\, Graz\, 8051\, Österre
 ich
GEO:47.0957632;15.410880700000007
X-APPLE-STRUCTURED-LOCATION;VALUE=URI;X-ADDRESS=Fischeraustraße 22\, Graz\
 , 8051\, Österreich;X-APPLE-RADIUS=100;X-TITLE=Hotel Novapark Graz:geo:47
 .0957632,15.410880700000007
END:VEVENT
BEGIN:VTIMEZONE
TZID:Europe/Vienna
X-LIC-LOCATION:Europe/Vienna
BEGIN:DAYLIGHT
DTSTART:20200329T030000
TZOFFSETFROM:+0100
TZOFFSETTO:+0200
TZNAME:CEST
END:DAYLIGHT
END:VTIMEZONE
END:VCALENDAR