BEGIN:VCALENDAR
VERSION:2.0
PRODID:-//wp-events-plugin.com//6.4.10//EN
TZID:Europe/Vienna
X-WR-TIMEZONE:Europe/Vienna
BEGIN:VEVENT
UID:1230@verkehrsakademie.at
DTSTART;TZID=Europe/Vienna:20200513T090000
DTEND;TZID=Europe/Vienna:20200513T170000
DTSTAMP:20200213T122111Z
URL:https://www.verkehrsakademie.at/events/kombi-seminar-gueter-des-doppel
 ten-verwendungszwecks-sanktionen-und-embargos-3/
SUMMARY:Kombi-Seminar Güter des doppelten Verwendungszwecks &amp\; Sanktio
 nen und Embargos
DESCRIPTION:Die Güterliste des Anhang I der Verordnung (EG) Nr. 428/2009
  (sog. Dual-Use Verordnung) - die EU-Liste der Güter mit doppeltem Verwe
 ndungszweck - ist Hauptanknüpfungspunkt der Ausfuhrkontrolle. Nach welc
 hem Schema Sie Ihre Güterprüfung vornehmen können\, erfahren Sie in d
 iesem Seminar. Wenn Sie U.S.-kontrollierte Güter haben\, kann Ihr Reexp
 ort genehmigungspflichtig sein. Wann eine U.S. Reexportgenehmigungspflich
 t vorliegt und wie die „de-minimis“-Regel anzuwenden ist\, wird eben
 falls besprochen.\n\nSowohl die EU\, als auch die USA kontrollieren den T
 ransfer bestimmter Technologien. Ist Ihr Unternehmen fit für dieIndustri
 e 4.0 unter Einhaltung der Exportkontrolle? Unter welchen Voraussetzunge
 n ein kontrollierter Technologietransfer gegeben ist\, wird in diesem Se
 minar erläutert.\n\nArbeitsschwerpunkte:\nAnknüpfungspunkte der Risikoan
 alyse\nkontrollierte Güter\n"de-mininis"-Regel\nEU/österreichische und U
 .S. Embargoländer\nU.S. Sanktionslisten &amp\;"secundary sanctions" / EU-
 Sanktionslisten\n\nEmbargoländer sind auch zu beachten\, wenn eine best
 immte Endverwendung mit Gütern des doppelten Verwendungszwecks gegeben i
 st. Dies gilt sowohl für die EU-\, als auch für die U.S. Re-Exportkontr
 olle. Welche Embargos aktuell gelten\, hören Sie in diesem Spezialsemina
 r.\n\nDie Iran und Russland Sanktionsbestimmungen werden im Detail bespro
 chen. Neben den Parallelen zwischen den EU und U.S. Bestimmungen erfahren
  Sie hier auch\, was Sie als U.S. Re-Exporteur zusätzlich zu den EU San
 ktionen zu beachten haben. Der einseitige Ausstieg der USA aus dem Joint
  Comprehensive Plan of Action (JCPOA) mit Iran wirkt sich auf U.S.-verb
 undene Unternehmen aus!\n\nWelche Regelungen gelten aktuell? Denn sowohl 
 Geschäftspartner\, bestimmte Endverwender (Sanktionslisten) als auch die
  Endverwendung müssen kontrolliert werden. Was sind „red flags“?\n
 \nArbeitsschwerpunkte:\nRisikoanalyse im Außenwirtschafstrecht mit der U.
 S. (Re)Exportkontrolle imZusammenhang mit\n\n 	EU/österreichischen und U.
 S.-Embargobestimmungen\n 	EU und U.S. Sanktionslisten\n\n&nbsp\;\n\nDoppel
 terVerwendungszweck &amp\; SanktionenEmbargos
CATEGORIES:Veranstaltungen,Weiterbildung
LOCATION:ARCOTEL Donauzentrum\, Wagramer Str. 83-85\, Wien\, Wien\, 1220\, 
 Österreich
GEO:48.2428087;16.434680699999944
X-APPLE-STRUCTURED-LOCATION;VALUE=URI;X-ADDRESS=Wagramer Str. 83-85\, Wien\
 , Wien\, 1220\, Österreich;X-APPLE-RADIUS=100;X-TITLE=ARCOTEL Donauzentru
 m:geo:48.2428087,16.434680699999944
END:VEVENT
BEGIN:VTIMEZONE
TZID:Europe/Vienna
X-LIC-LOCATION:Europe/Vienna
BEGIN:DAYLIGHT
DTSTART:20200329T030000
TZOFFSETFROM:+0100
TZOFFSETTO:+0200
TZNAME:CEST
END:DAYLIGHT
END:VTIMEZONE
END:VCALENDAR