BEGIN:VCALENDAR
VERSION:2.0
PRODID:-//wp-events-plugin.com//6.4.10//EN
TZID:Europe/Vienna
X-WR-TIMEZONE:Europe/Vienna
BEGIN:VEVENT
UID:1232@verkehrsakademie.at
DTSTART;TZID=Europe/Vienna:20201104T083000
DTEND;TZID=Europe/Vienna:20201104T173000
DTSTAMP:20201007T120451Z
URL:https://www.verkehrsakademie.at/events/kombi-seminar-lieferantenerklae
 rungen-neue-abkommen-und-ursprungssysteme-2/
SUMMARY:Ursprungsnachweise &amp\; Lieferantenerklärungen
DESCRIPTION:Alle Präferenzregelungen (Abkommen und autonome Begünstigunge
 n) der EU beinhalten sehr unterschiedliche präferenzielle schriftliche 
 Ursprungsnachweise\, die einer Ware die Zollpräferenzbegünstigung ermög
 lichen. Ein zollamtlich bestätigter Ursprungsnachweis (Warenverkehrsbesc
 heinigung) findet immer weniger Anwendung und wird je nach Präferenzrege
 lung durch im Wortlaut und auch inhaltlich unterschiedliche Erklärungen d
 es Ausführers (sogenannte „Selbstzertifizierung“) ersetzt.\n\nDer Wir
 tschaftsbeteiligte (Einführer\, Ausführer\, Hersteller\, Händler\, Sped
 iteur) ist gefordert zu wissen\, welcher schriftliche Ursprungsnachweis e
 rforderlich ist\, um eine Zollpräferenzbegünstigung in der EU bzw. im P
 artnerland zu erlangen. Lieferantenerklärungen für Waren mit oder ohne 
 Präferenzursprungseigenschaft sind Erfordernisse bzw. Grundlage für die
  spätere Ausstellung eines Ursprungsnachweises. Die Notwendigkeit\, Aus
 stellung\, Akzeptanz und Handhabung von Lieferantenerklärungen führen i
 n der Praxis oft zu zahlreichen Fragen und Problemen\, die vor deren Ausst
 ellung zu klären sind.\n\nDie unrechtmäßige Ausstellung von Ursprungsna
 chweisen bzw. Lieferantenerklärungen kann zollrechtliche (Nacherhebung 
 Zoll) und finanzstrafrechtliche (verantwortliche Person) Konsequenzen 
 nach sich ziehen.\n\nZielgruppe:\nAlle Personen eines Unternehmens\, die i
 n ihren Aufgabenbereich (z.B. Vertrieb\, Verkauf\, Einkauf\, Versand und L
 ogistik) auch für Ursprungsnachweise und Lieferantenerklärungen verantwo
 rtlich sind.\nDas Seminar behandelt nur die Themen Ursprungsnachweise und
  Lieferantenerklärung\, wozu keine speziellen Vorkenntnisse der Ursprungs
 regeln erforderlich sind.\nFür das Verständnis der insgesamt komplexen 
 Ursprungsregeln (z.B. wie wird Ursprung erzielt) bietet der Kitzler Verla
 g spezielle Seminare z.B. Warenursprung &amp\; Zollpräferenzen bzw. Zoll-
 Lehrgänge an.\n\nUrsprungsnachweise &amp\; Lieferantenerklärungen\n\n&nb
 sp\;\n\n&nbsp\;
CATEGORIES:Veranstaltungen,Weiterbildung
LOCATION:Hotel Ibis Linz City\, Kärntnerstraße 18-20\, Linz\, 4020\, Öst
 erreich
GEO:48.2912168;14.288951999999994
X-APPLE-STRUCTURED-LOCATION;VALUE=URI;X-ADDRESS=Kärntnerstraße 18-20\, Li
 nz\, 4020\, Österreich;X-APPLE-RADIUS=100;X-TITLE=Hotel Ibis Linz City:ge
 o:48.2912168,14.288951999999994
END:VEVENT
BEGIN:VTIMEZONE
TZID:Europe/Vienna
X-LIC-LOCATION:Europe/Vienna
BEGIN:STANDARD
DTSTART:20201025T020000
TZOFFSETFROM:+0200
TZOFFSETTO:+0100
TZNAME:CET
END:STANDARD
END:VTIMEZONE
END:VCALENDAR