BEGIN:VCALENDAR
VERSION:2.0
PRODID:-//wp-events-plugin.com//6.4.10//EN
TZID:Europe/Vienna
X-WR-TIMEZONE:Europe/Vienna
BEGIN:VEVENT
UID:1234@verkehrsakademie.at
DTSTART;TZID=Europe/Vienna:20200421T083000
DTEND;TZID=Europe/Vienna:20200421T173000
DTSTAMP:20200213T122807Z
URL:https://www.verkehrsakademie.at/events/kombi-seminar-lieferantenerklae
 rungen-neue-abkommen-und-ursprungssysteme/
SUMMARY:Kombi Seminar: Lieferantenerklärungen &amp\; Neue Abkommen und Urs
 prungssysteme
DESCRIPTION:Das Kombi-Seminar beschäftigt sich am Vormittag intensiv mi
 t den Lieferantenerklärungen mit oder ohne Präferenzursprungseigenschaf
 t\, die in Unternehmen häufig ausgestellt bzw. von Geschäftspartnern gef
 ordert werden. Letztendlich dienen Lieferantenerklärungen für Waren mit 
 Präferenzursprungseigenschaften als Grundlage für die Ausstellung eines 
 Präferenznachweises bei der Ausfuhr von Waren aus der EU\, um im Importla
 nd Zollvorteile nutzen zu können.\n\nDie Notwendigkeit\, Ausstellung\
 , Akzeptanz und Handhabung von Lieferantenerklärungen führen in der P
 raxis oft zu zahlreichen Fragen und Problemen. DAbei erweisen sich sehr of
 t das Verständnis über das Präferenzsystem der EU und die damit verbu
 ndenen Beurteilungen der präferentiellen Ursprungsregeln als besonders 
 schwierig.\n\nAm Nachmittag geht es vorwiegend um die Abkommen der EU m
 it Südkorea\, Japan und Singapur\, sowie die zukünftigen ASEAN Abkommen
  der EU (z.B. mit Vietnam\, Indonesien)\, die von besonderer wirtschaftli
 cher Bedeutung sind. Mit Anwendung dieser Abkommen werden Zölle nur dann 
 beseitigt\, wenn es sich um Ursprungserzeugnisse des jeweiligen Abkommens 
 handelt. Importeure und vor allem Exporteure können von den Abkommen prof
 itieren\, wenn sie die Ursprungsregeln des jeweiligen Abkommens kennen und
  korrekt anwenden.\n\nErfahren Sie worauf es in der Praxis ankommt!\n\nZi
 elgruppe:\nZollverantwortliche &amp\; Zollsachbearbeiter\, Spediteure\nZol
 ldeklaranten &amp\; Zollmitarbeiter bei Frächtern und Transporteuren\nExp
 ort- und Importleiter\nVerantwortliche aus Ministerien\, Ämtern der Lande
 sregierungen\, Kammern &amp\; Gemeinden\, Interessensvertretungen\n\nLiefe
 rantenerklaerungen &amp\; Neue Abkommen und Ursprungssysteme\n\n&nbsp\;
CATEGORIES:Veranstaltungen,Weiterbildung
LOCATION:Hotel Novapark Graz\, Fischeraustraße 22\, Graz\, 8051\, Österre
 ich
GEO:47.0957632;15.410880700000007
X-APPLE-STRUCTURED-LOCATION;VALUE=URI;X-ADDRESS=Fischeraustraße 22\, Graz\
 , 8051\, Österreich;X-APPLE-RADIUS=100;X-TITLE=Hotel Novapark Graz:geo:47
 .0957632,15.410880700000007
END:VEVENT
BEGIN:VTIMEZONE
TZID:Europe/Vienna
X-LIC-LOCATION:Europe/Vienna
BEGIN:DAYLIGHT
DTSTART:20200329T030000
TZOFFSETFROM:+0100
TZOFFSETTO:+0200
TZNAME:CEST
END:DAYLIGHT
END:VTIMEZONE
END:VCALENDAR