BEGIN:VCALENDAR
VERSION:2.0
PRODID:-//wp-events-plugin.com//6.4.10//EN
TZID:Europe/Vienna
X-WR-TIMEZONE:Europe/Vienna
BEGIN:VEVENT
UID:1467@verkehrsakademie.at
DTSTART;TZID=Europe/Vienna:20221117T093000
DTEND;TZID=Europe/Vienna:20221117T140000
DTSTAMP:20221012T124432Z
URL:https://www.verkehrsakademie.at/events/kuenstliche-intelligenz-fuer-um
 welt-und-klimaschutz-workshop-energie-und-transport/
SUMMARY:Künstliche Intelligenz für Umwelt und Klimaschutz - Workshop Ener
 gie und Transport
DESCRIPTION:Das Bundesministerium für Klimaschutz\, Umwelt\, Energie\, Mob
 ilität\, Innovation und Technologie (BMK) lässt im Rahmen der Studie AI
 4Green das Potential von Künstlicher Intelligenz für den Umwelt und Klim
 aschutz untersuchen. Hierzu finden Workshops statt.\n\nWorkshop Energie un
 d Transport am 17.11.2022\, 09:30- 14:00\, Online\n\nMöglichkeit zur Anm
 eldung finden Sie hier.
CATEGORIES:Veranstaltungen
END:VEVENT
BEGIN:VTIMEZONE
TZID:Europe/Vienna
X-LIC-LOCATION:Europe/Vienna
BEGIN:STANDARD
DTSTART:20221030T020000
TZOFFSETFROM:+0200
TZOFFSETTO:+0100
TZNAME:CET
END:STANDARD
END:VTIMEZONE
END:VCALENDAR