BEGIN:VCALENDAR
VERSION:2.0
PRODID:-//wp-events-plugin.com//6.4.10//EN
TZID:Europe/Vienna
X-WR-TIMEZONE:Europe/Vienna
BEGIN:VEVENT
UID:162@verkehrsakademie.at
DTSTART;TZID=Europe/Vienna:20151020T090000
DTEND;TZID=Europe/Vienna:20151021T170000
DTSTAMP:20150819T101346Z
URL:https://www.verkehrsakademie.at/events/ladungssicherung/
SUMMARY:Ladungssicherung
DESCRIPTION:2-Tages-Praxis-Seminar inkl. Ausbildungsnachweis nach VDI 2700a
 \n\nProgramm: Seminar_Ladungssicherung\n\n&nbsp\;\n\n&nbsp\;
CATEGORIES:Veranstaltungen
LOCATION:Austria Trend Hotel Bosei\, Gutheil-Schoder-Gasse 7b\, Wien\, Wien
 \, 1100\, Österreich
GEO:48.1628767;16.33991100000003
X-APPLE-STRUCTURED-LOCATION;VALUE=URI;X-ADDRESS=Gutheil-Schoder-Gasse 7b\, 
 Wien\, Wien\, 1100\, Österreich;X-APPLE-RADIUS=100;X-TITLE=Austria Trend 
 Hotel Bosei:geo:48.1628767,16.33991100000003
END:VEVENT
BEGIN:VTIMEZONE
TZID:Europe/Vienna
X-LIC-LOCATION:Europe/Vienna
BEGIN:DAYLIGHT
DTSTART:20150329T030000
TZOFFSETFROM:+0100
TZOFFSETTO:+0200
TZNAME:CEST
END:DAYLIGHT
END:VTIMEZONE
END:VCALENDAR