BEGIN:VCALENDAR
VERSION:2.0
PRODID:-//wp-events-plugin.com//6.4.10//EN
TZID:Europe/Vienna
X-WR-TIMEZONE:Europe/Vienna
BEGIN:VEVENT
UID:1245@verkehrsakademie.at
DTSTART;TZID=Europe/Vienna:20211011T090000
DTEND;TZID=Europe/Vienna:20211013T170000
DTSTAMP:20210512T191231Z
URL:https://www.verkehrsakademie.at/events/lehrgang-export-import/
SUMMARY:Lehrgang Export &amp\; Import
DESCRIPTION:Im 3-tägigen Lehrgang widmet sich den unterschiedlichsten Hera
 usforderungen und Anforderungen in der alltäglichen Export- und Importabw
 icklung. Die Inhalte spannen einen Bogen von der Auftragsabwicklung\, dem 
 Zollwesen bis hin zur steuerrechtlichen relevante Aufgaben.\n\n&nbsp\;\n\n
 Arbeitsschwerpunkte:\nTag 1: Auftragsabwicklung / Tag 2: Zollwesen im Auß
 enhandel / Tag 3: Besonderheiten iZm der Umsatzsteuer im Auslandsgeschäft
 \n\nZielgruppe:\nExport- und Importsachbearbeiter\, Export- und Importassi
 stent\, Mitarbeiter und Leiter Einkauf und Verkauf\, sowie alle\, die im A
 ußenhandel\ntätig sind und sich über die Grundlagen im Auslandsgeschäf
 t informieren möchten!\n\nInkl. Handbuch "Export &amp\; Import für die 
 Praxis" im Wert von € 90\,- exkl. USt\n\nInformation über Veranstaltun
 gsort folgt!\n\nLehrgang Export und Import\n\n&nbsp\;
CATEGORIES:Weiterbildung
END:VEVENT
BEGIN:VTIMEZONE
TZID:Europe/Vienna
X-LIC-LOCATION:Europe/Vienna
BEGIN:DAYLIGHT
DTSTART:20210328T030000
TZOFFSETFROM:+0100
TZOFFSETTO:+0200
TZNAME:CEST
END:DAYLIGHT
END:VTIMEZONE
END:VCALENDAR