BEGIN:VCALENDAR
VERSION:2.0
PRODID:-//wp-events-plugin.com//6.4.10//EN
TZID:Europe/Vienna
X-WR-TIMEZONE:Europe/Vienna
BEGIN:VEVENT
UID:341@verkehrsakademie.at
DTSTART;TZID=Europe/Vienna;VALUE=DATE:20161108
DTEND;TZID=Europe/Vienna;VALUE=DATE:20161111
DTSTAMP:20160720T063107Z
URL:https://www.verkehrsakademie.at/events/lehrgang-transport-und-fuhrpark
 leitung-2/
SUMMARY:Lehrgang Transport- und Fuhrparkleitung
DESCRIPTION:Der Praxis-Lehrgang für Transport- und Fuhrparkleiter!\n\n 	3-
 Tages Lehrgang\n 	Jeder Tag getrennt buchbar!\n\nNähere Informationen
CATEGORIES:Veranstaltungen
LOCATION:Hotel InterCity Wien\, Mariahilfer Straße 122\, 1070 Wien\, Wien\
 , 1070\, Österreich
GEO:48.1963892;16.341275699999983
X-APPLE-STRUCTURED-LOCATION;VALUE=URI;X-ADDRESS=Mariahilfer Straße 122\, 1
 070 Wien\, Wien\, 1070\, Österreich;X-APPLE-RADIUS=100;X-TITLE=Hotel Inte
 rCity Wien:geo:48.1963892,16.341275699999983
END:VEVENT
BEGIN:VTIMEZONE
TZID:Europe/Vienna
X-LIC-LOCATION:Europe/Vienna
BEGIN:STANDARD
DTSTART:20161030T020000
TZOFFSETFROM:+0200
TZOFFSETTO:+0100
TZNAME:CET
END:STANDARD
END:VTIMEZONE
END:VCALENDAR