BEGIN:VCALENDAR
VERSION:2.0
PRODID:-//wp-events-plugin.com//6.4.10//EN
TZID:Europe/Vienna
X-WR-TIMEZONE:Europe/Vienna
BEGIN:VEVENT
UID:1243@verkehrsakademie.at
DTSTART;TZID=Europe/Vienna:20200420T090000
DTEND;TZID=Europe/Vienna:20200527T170000
DTSTAMP:20200213T135433Z
URL:https://www.verkehrsakademie.at/events/lehrgang-zum-zertifizierten-zol
 ldeklaranten-p37-2/
SUMMARY:Lehrgang zum zertifizierten Zolldeklaranten P37
DESCRIPTION:Im modularen Lehrgang zum zertifizierten Zolldeklaranten P37 
 eignen Sie sich unerlässliche Kenntnisse für die Import- und Exportabwi
 cklung an. Die Ausbildung vermittelt Ihnen tiefgehendes Wissen im Zoll &a
 mp\; Außenhandel und unterstützt Sie\, dieses in die Praxis umzusetzen! 
 Sie erhalten einen umfangreichen Einblick in alle zollrelevanten Abläufe
 \, speziell bis hin zur elektronischen Abwicklung von Import- und Exportve
 rzollungen.\nSie haben bereits einen Zoll-Lehrgang oder die Ausbildung zur
  P36-Zollfachkraft absolviert? Ausgewählte Module der P37-Ausbildung bie
 tet Ihnen eine optimale Ergänzung: Mit nur wenigen zusätzlichen Präsenz
 seminartagen + e-learning-Einheiten können Sie bei Austrian Standards d
 ie Prüfung zum P37-Zolldeklaranten ablegen. \nArbeitsschwerpunkte:\nTa
 g 1: Basiswissen Zoll / Tag 2: Zolltarif Modul I / Tag 3: Zollverfahren im
  Export &amp\; Import / Tag 4: Praxistransfer: Zollabwicklung und Abläufe
  in der Praxis und aktuelle Geschäftsfälle / Besondere Verfahren / Tag 5
 : Warenursprung &amp\; Zollpräferenzen / Tag 6: Exportkontrolle &amp\; Ab
 gabenberechnung  - Modul I / Tag 7: Umsatzsteuer bei Auslandsgeschäften 
 &amp\; Haftungsrisiken im Zollrecht und mögliche Rechtsbehelfe / Tag 8: P
 raxisübungen und Zusammenfassung / Tag 9: Steuer intensiv / Tag 10: Zoll-
 Tarif Modul II / Tag 11: Zollanmeldung in Theorie und Praxis Teil 2 / Tag 
 12: Vorbereitungsmaßnahmen auf die externe Prüfung / Tag 13: Zollanmeldu
 ng in der Theorie und Praxis Teil 2 und Vorbereitungsmaßnahmen auf die ex
 terne Prüfung\n\nBereits absolvierte Seminarmodule können in Absprache u
 nd gegen Vorlage der Seminarbestätigung angerechnet werden!  \n\nZielgr
 uppen:\nZollverantwortliche und Export- und Importverantwortliche\nWirtsch
 aftsanwälte\, Steuerberater\, Unternehmensberater\nInteressensvertretunge
 n\nBerufliche Quereinsteiger\n\nDie ersten 8 Ausbildungstage (ident mit P3
 6-Zollfachkraftausbildung) finden jeweils in Wien oder Salzburg statt\, d
 ie weiteren 5 Ausbildungstage finden ausschließlich in Wien statt.\n\n&
 nbsp\;\n\nLehrgang zum zertifizierten Zolldeklaranten P37\n\n&nbsp\;
CATEGORIES:Veranstaltungen,Weiterbildung
LOCATION:Austria Trend Hotel Salzburg West\, \, Österreich
GEO:47.792133;12.989474
X-APPLE-STRUCTURED-LOCATION;VALUE=URI;X-ADDRESS=\, Österreich;X-APPLE-RADI
 US=100;X-TITLE=Austria Trend Hotel Salzburg West:geo:47.792133,12.989474
END:VEVENT
BEGIN:VTIMEZONE
TZID:Europe/Vienna
X-LIC-LOCATION:Europe/Vienna
BEGIN:DAYLIGHT
DTSTART:20200329T030000
TZOFFSETFROM:+0100
TZOFFSETTO:+0200
TZNAME:CEST
END:DAYLIGHT
END:VTIMEZONE
END:VCALENDAR