BEGIN:VCALENDAR
VERSION:2.0
PRODID:-//wp-events-plugin.com//6.4.10//EN
TZID:Europe/Vienna
X-WR-TIMEZONE:Europe/Vienna
BEGIN:VEVENT
UID:1305@verkehrsakademie.at
DTSTART;TZID=Europe/Vienna:20210928T090000
DTEND;TZID=Europe/Vienna:20211014T170000
DTSTAMP:20210512T191210Z
URL:https://www.verkehrsakademie.at/events/lehrgang-zur-zertifizierten-zol
 l-fachkraft-p36-5/
SUMMARY:Lehrgang zur zertifizierten Zoll-Fachkraft P36
DESCRIPTION:Werden Sie in GRAZ in nur 8 Tagen zur zertifizierten Zoll-Fachk
 raft! Top-Vortragende aus der Wirtschaft und der österreichischen Zo
 llverwaltung statten Sie mit dem nötigen Praxis-Wissen aus!\n\nArbeitssc
 hwerpunkte:\nTag 1: Basiswissen Zoll / Tag 2: Zolltarif / Tag 3: Zollverfa
 hren im Export &amp\; Import / Tag 4: Praxistransfer &amp\; Besondere Verf
 ahren / Tag 5: Warenursprung &amp\; Zollpräferenzen / Tag 6: Exportkontro
 lle &amp\; Abgabenberechnung / Tag 7: Umsatzsteuer bei Auslandsgeschäften
  &amp\; Haftungsrisiken im Zollrecht und mögliche Rechtsbehelfe / Tag 8: 
 Praxisübungen und Prüfungsvorbereitung\n\nBereits absolvierte Seminarmod
 ule können in Absprache und gegen Vorlage der Seminarbestätigung angerec
 hnet werden!  \n\nZielgruppen:\nZollverantwortliche und Export- und Impo
 rtverantwortliche\nWirtschaftsanwälte\, Steuerberater\, Unternehmensberat
 er\nInteressensvertretungen\nBerufliche Quereinsteiger\n\nLehrgang zur zer
 tifizierten Zoll-Fachkraft P36\n\n&nbsp\;\n\n&nbsp\;\n\n&nbsp\;\n\n&nbsp\;
CATEGORIES:Weiterbildung
LOCATION:Hotel Novapark Graz\, Fischeraustraße 22\, Graz\, 8051\, Österre
 ich
GEO:47.0957632;15.410880700000007
X-APPLE-STRUCTURED-LOCATION;VALUE=URI;X-ADDRESS=Fischeraustraße 22\, Graz\
 , 8051\, Österreich;X-APPLE-RADIUS=100;X-TITLE=Hotel Novapark Graz:geo:47
 .0957632,15.410880700000007
END:VEVENT
BEGIN:VTIMEZONE
TZID:Europe/Vienna
X-LIC-LOCATION:Europe/Vienna
BEGIN:DAYLIGHT
DTSTART:20210328T030000
TZOFFSETFROM:+0100
TZOFFSETTO:+0200
TZNAME:CEST
END:DAYLIGHT
END:VTIMEZONE
END:VCALENDAR