BEGIN:VCALENDAR
VERSION:2.0
PRODID:-//wp-events-plugin.com//6.4.10//EN
TZID:Europe/Vienna
X-WR-TIMEZONE:Europe/Vienna
BEGIN:VEVENT
UID:1122@verkehrsakademie.at
DTSTART:20190924T000000Z
DTEND:20191017T000000Z
DTSTAMP:20190903T083631Z
URL:https://www.verkehrsakademie.at/events/lehrgang-zur-zertifizierten-zol
 lfachkraft-p36/
SUMMARY:Lehrgang zur zertifizierten Zollfachkraft P36
DESCRIPTION:Im Rahmen von 9 Tagen präsentiert Ihnen der Lehrgang die wesen
 tlichen zoll- und aussenwirtschaftlichen Vorschriften für Export und Impo
 rt. Weitere Informationen finden Sie hier
CATEGORIES:Weiterbildung
LOCATION:Dornbirn\, Mozartstraße 2\, Dornbirn\, Vorarlberg\, 6850\, Öster
 reich
GEO:47.4132486;9.74019450000003
X-APPLE-STRUCTURED-LOCATION;VALUE=URI;X-ADDRESS=Mozartstraße 2\, Dornbirn\
 , Vorarlberg\, 6850\, Österreich;X-APPLE-RADIUS=100;X-TITLE=Dornbirn:geo:
 47.4132486,9.74019450000003
END:VEVENT
END:VCALENDAR