BEGIN:VCALENDAR
VERSION:2.0
PRODID:-//wp-events-plugin.com//6.4.10//EN
TZID:Europe/Vienna
X-WR-TIMEZONE:Europe/Vienna
BEGIN:VEVENT
UID:1264@verkehrsakademie.at
DTSTART;TZID=Europe/Vienna;VALUE=DATE:20201021
DTEND;TZID=Europe/Vienna;VALUE=DATE:20201022
DTSTAMP:20200616T125537Z
URL:https://www.verkehrsakademie.at/events/lichtwellenleitersensorik-im-ei
 senbahnwesen/
SUMMARY:Lichtwellenleitersensorik im Eisenbahnwesen
DESCRIPTION:Die Sensortechnik "Lichtwellenleiter als Sensor" findet immer m
 ehr Anwendung im Eisenbahnbereich. Hat sie das Potential das Eisenbahnwese
 n zu revolutionieren oder bleibt sie auf Nischenanwendungen beschränkt? E
 xperten aus Deutschland und Österreich präsentieren den Stand der Techni
 k und Wissenschaft und geben Einblick in eine allgemein noch wenig bekannt
 e Technologie.\n\nProgramm &amp\; Anmeldung
CATEGORIES:Veranstaltungen
LOCATION:Österreichisches Patentamt\, Dresdner Straße 87\, Wien\, 1200\, 
 Österreich
GEO:48.233353;16.383985
X-APPLE-STRUCTURED-LOCATION;VALUE=URI;X-ADDRESS=Dresdner Straße 87\, Wien\
 , 1200\, Österreich;X-APPLE-RADIUS=100;X-TITLE=Österreichisches Patentam
 t:geo:48.233353,16.383985
END:VEVENT
BEGIN:VTIMEZONE
TZID:Europe/Vienna
X-LIC-LOCATION:Europe/Vienna
BEGIN:DAYLIGHT
DTSTART:20200329T030000
TZOFFSETFROM:+0100
TZOFFSETTO:+0200
TZNAME:CEST
END:DAYLIGHT
END:VTIMEZONE
END:VCALENDAR