BEGIN:VCALENDAR
VERSION:2.0
PRODID:-//wp-events-plugin.com//6.4.10//EN
TZID:Europe/Vienna
X-WR-TIMEZONE:Europe/Vienna
BEGIN:VEVENT
UID:1031@verkehrsakademie.at
DTSTART;TZID=Europe/Vienna:20180930T000000
DTEND;TZID=Europe/Vienna:20180930T000000
DTSTAMP:20180809T145643Z
URL:https://www.verkehrsakademie.at/events/living-standards-award-2019/
SUMMARY:Living Standards Award 2019
DESCRIPTION:Living Standards Award 2019 – jetzt mitmachen\n\nDer Living S
 tandards Award holt bereits zum 5. Mal Hidden Champions vor den Vorhang. A
 ustrian Standards sucht Erfolgsgeschichten\, wie mit Standards innovative 
 Produkte und Services entwickelt wurden. Erstmals mit der Sonderkategorie 
 GS1 Standards. Deadline: 30. 9. 2018.\n\nInformation\n\n&nbsp\;
CATEGORIES:Ausschreibungen
END:VEVENT
BEGIN:VTIMEZONE
TZID:Europe/Vienna
X-LIC-LOCATION:Europe/Vienna
BEGIN:DAYLIGHT
DTSTART:20180325T030000
TZOFFSETFROM:+0100
TZOFFSETTO:+0200
TZNAME:CEST
END:DAYLIGHT
END:VTIMEZONE
END:VCALENDAR