BEGIN:VCALENDAR
VERSION:2.0
PRODID:-//wp-events-plugin.com//6.4.10//EN
TZID:Europe/Vienna
X-WR-TIMEZONE:Europe/Vienna
BEGIN:VEVENT
UID:804@verkehrsakademie.at
DTSTART;TZID=Europe/Vienna;VALUE=DATE:20180413
DTEND;TZID=Europe/Vienna;VALUE=DATE:20180415
DTSTAMP:20180119T140108Z
URL:https://www.verkehrsakademie.at/events/logistic-4-0-management-certifi
 cate/
SUMMARY:Logistic 4.0 Management Certificate
DESCRIPTION:Executive Training for Digital Leadership\n\n1 Semimarwochenend
 e\n\nProgramm
CATEGORIES:Weiterbildung
LOCATION:WU Executive Academy\, Welthandelsplatz 1\, Wien\, Österreich
GEO:48.2146767;16.406435800000054
X-APPLE-STRUCTURED-LOCATION;VALUE=URI;X-ADDRESS=Welthandelsplatz 1\, Wien\,
  Österreich;X-APPLE-RADIUS=100;X-TITLE=WU Executive Academy:geo:48.214676
 7,16.406435800000054
END:VEVENT
BEGIN:VTIMEZONE
TZID:Europe/Vienna
X-LIC-LOCATION:Europe/Vienna
BEGIN:DAYLIGHT
DTSTART:20180325T030000
TZOFFSETFROM:+0100
TZOFFSETTO:+0200
TZNAME:CEST
END:DAYLIGHT
END:VTIMEZONE
END:VCALENDAR