BEGIN:VCALENDAR
VERSION:2.0
PRODID:-//wp-events-plugin.com//6.4.10//EN
TZID:Europe/Vienna
X-WR-TIMEZONE:Europe/Vienna
BEGIN:VEVENT
UID:1265@verkehrsakademie.at
DTSTART;TZID=Europe/Vienna:20201103T130000
DTEND;TZID=Europe/Vienna:20201103T173000
DTSTAMP:20200616T130114Z
URL:https://www.verkehrsakademie.at/events/masterplan-gueterverkehr/
SUMMARY:Masterplan Güterverkehr
DESCRIPTION:ÖVG-Forum\n\nDer Güterverkehr in Europa steht in den kommende
 n Jahren vor großen Herausforderungen. Es ist daher ein wichtiges Anliege
 n der Österreichischen Verkehrswissenschaftlichen Gesellschaft (ÖVG)\, s
 ich diesem Thema in Form einer halbtägigen Veranstaltung zu widmen und di
 e Entwicklungen und daraus resultierende Maßnahmen darzustellen und zu di
 skutieren.\n\nProgramm &amp\; Anmeldung
CATEGORIES:Veranstaltungen
LOCATION:Village Cinema Wien Mitte\, Landstraßer Hauptstraße 2a\, Wien\, 
 1030\, Österreich
GEO:48.205623;16.384538
X-APPLE-STRUCTURED-LOCATION;VALUE=URI;X-ADDRESS=Landstraßer Hauptstraße 2
 a\, Wien\, 1030\, Österreich;X-APPLE-RADIUS=100;X-TITLE=Village Cinema Wi
 en Mitte:geo:48.205623,16.384538
END:VEVENT
BEGIN:VTIMEZONE
TZID:Europe/Vienna
X-LIC-LOCATION:Europe/Vienna
BEGIN:STANDARD
DTSTART:20201025T020000
TZOFFSETFROM:+0200
TZOFFSETTO:+0100
TZNAME:CET
END:STANDARD
END:VTIMEZONE
END:VCALENDAR