BEGIN:VCALENDAR
VERSION:2.0
PRODID:-//wp-events-plugin.com//6.4.10//EN
TZID:Europe/Vienna
X-WR-TIMEZONE:Europe/Vienna
BEGIN:VEVENT
UID:1490@verkehrsakademie.at
DTSTART;TZID=Europe/Vienna:20230329T000000
DTEND;TZID=Europe/Vienna:20230330T000000
DTSTAMP:20230303T091510Z
URL:https://www.verkehrsakademie.at/events/mit-europe-technologiekonferenz
 /
SUMMARY:MIT Europe Technologiekonferenz
DESCRIPTION:Sie möchten bereits heute wissen\, welche neuen Technologien m
 orgen Ihre Produkte und Dienstleistungen beeinflussen werden? Dann dürfen
  Sie die MIT Europe Conference unter dem Motto "A changing world. How Tech
 nology Tackles Global Challenges" Ende März 2023 nicht verpassen! Tauchen
  Sie ein in die faszinierende Welt und die Initiativen des Massachusetts I
 nstitute of Technology (MIT) und das mitten in Wien. Gewinnen Sie exklusiv
 e Einblicke in die aktuelle Forschungsarbeit der renommierten MIT-Wissensc
 hafter:innen zu den Kernthemen der Konferenz: Nachhaltigkeit\, Ernährung 
 und Energie. Nutzen Sie die seltene Gelegenheit in den MIT Deep Dive Works
 hops in kleiner Runde Ihre individuellen Fragen zu diskutieren und Lösung
 en zu erarbeiten. Die verfügbaren Plätze sind limitiert.\n\nWeitere Info
 rmationen
CATEGORIES:Veranstaltungen
END:VEVENT
BEGIN:VTIMEZONE
TZID:Europe/Vienna
X-LIC-LOCATION:Europe/Vienna
BEGIN:DAYLIGHT
DTSTART:20230326T030000
TZOFFSETFROM:+0100
TZOFFSETTO:+0200
TZNAME:CEST
END:DAYLIGHT
END:VTIMEZONE
END:VCALENDAR