BEGIN:VCALENDAR
VERSION:2.0
PRODID:-//wp-events-plugin.com//6.4.10//EN
TZID:Europe/Vienna
X-WR-TIMEZONE:Europe/Vienna
BEGIN:VEVENT
UID:212@verkehrsakademie.at
DTSTART;TZID=Europe/Vienna:20160210T000000
DTEND;TZID=Europe/Vienna:20160210T000000
DTSTAMP:20160111T143245Z
URL:https://www.verkehrsakademie.at/events/mobilitaet-der-zukunft-6-aussch
 reibung-herbst-2015/
SUMMARY:Mobilität der Zukunft - 6. Ausschreibung (Herbst 2015)
DESCRIPTION:Das BMVIT-Programm "Mobilität der Zukunft" öffnete am 28. Okt
 ober 2015 die 6. Ausschreibung mit den Schwerpunkten: Gütermobilität\, P
 ersonenmobilität\, Fahrzeugtechnologien und Verkehrsinfrastruktur. Es ste
 hen insgesamt 15\,5 Mio. Euro zur Verfügung.\n\nInformation
CATEGORIES:Ausschreibungen
END:VEVENT
BEGIN:VTIMEZONE
TZID:Europe/Vienna
X-LIC-LOCATION:Europe/Vienna
BEGIN:STANDARD
DTSTART:20151025T020000
TZOFFSETFROM:+0200
TZOFFSETTO:+0100
TZNAME:CET
END:STANDARD
END:VTIMEZONE
END:VCALENDAR