BEGIN:VCALENDAR
VERSION:2.0
PRODID:-//wp-events-plugin.com//6.4.10//EN
TZID:Europe/Vienna
X-WR-TIMEZONE:Europe/Vienna
BEGIN:VEVENT
UID:1261@verkehrsakademie.at
DTSTART;TZID=Europe/Vienna:20200527T000000
DTEND;TZID=Europe/Vienna:20200923T000000
DTSTAMP:20200603T090616Z
URL:https://www.verkehrsakademie.at/events/mobilitaet-der-zukunft-fruehjah
 r-2020/
SUMMARY:Mobilität der Zukunft (Frühjahr 2020)
DESCRIPTION:Ausschreibung zu Förderungen und F&amp\;E-Dienstleistungen\nIn
  der 15. Ausschreibung aus dem Programm "Mobilität der Zukunft" sind Schw
 erpunkte zu "Fahrzeugtechnologien"\, "Automatisierter Mobilität" und "Per
 sonenmobilität" ausgeschrieben.\n\nAusschreibungsschwerpunkte für Förde
 rungen\n\n 	Brennstoffzellen und Wasserstoff – Entwicklung von Brennstof
 fzellen und deren Komponenten sowie Einsatz und Betankung/Speicherung von 
 Wasserstoff\n 	Leichtbau\, Produktionstechnologien und Fahrzeugintegration
 \n 	Fahrzeugelektronik\, Simulation\, Sensorik und Automatisierung\n 	Nich
 tfossile Treibstoffe und Energieträger für mobile Anwendungen\n 	Automat
 isiertes Fahren – Testen und Verifizieren\n 	Umsetzungspfade klimagerech
 ter Personenmobilität in Zeiten des Umbruchs\n\nAusschreibungsschwerpunkt
 e für F&amp\;E-Dienstleistungen\n\n 	Covid-19 Krise als Chance für die T
 ransformation des Mobilitätssystems im Bereich der Personenmobilität\n 	
 Intersektorale Wirkungsimplikation und Potentiale aktiver Mobilität in de
 n Bereichen Gesundheit und Wirtschaft\n 	Innovationen im Bereich Kapazitä
 tsmanagement zum Abbau von Nachfragespitzen und zur Gewährleistung klimaf
 reundlicher Mobilitätsoptionen\n 	Wissensbausteine für die Definition un
 d Umsetzung einer bundesweiten Mobilitäts-Servicegarantie\n\n Insgesamt s
 tehen 9 Mio. € zur Verfügung.\n\nAusschreibungsdauer Mai 2020 bis 23. S
 eptember 2020.\n\nWeitere Infos
CATEGORIES:Ausschreibungen
END:VEVENT
BEGIN:VTIMEZONE
TZID:Europe/Vienna
X-LIC-LOCATION:Europe/Vienna
BEGIN:DAYLIGHT
DTSTART:20200329T030000
TZOFFSETFROM:+0100
TZOFFSETTO:+0200
TZNAME:CEST
END:DAYLIGHT
END:VTIMEZONE
END:VCALENDAR