BEGIN:VCALENDAR
VERSION:2.0
PRODID:-//wp-events-plugin.com//6.4.10//EN
TZID:Europe/Vienna
X-WR-TIMEZONE:Europe/Vienna
BEGIN:VEVENT
UID:1263@verkehrsakademie.at
DTSTART;TZID=Europe/Vienna;VALUE=DATE:20201013
DTEND;TZID=Europe/Vienna;VALUE=DATE:20201014
DTSTAMP:20200616T123000Z
URL:https://www.verkehrsakademie.at/events/mobilitaet-ohne-grenzen-grenzen
 lose-mobilitaet-2/
SUMMARY:Mobilität ohne Grenzen – Grenzenlose Mobilität?
DESCRIPTION:ÖVG-Jahrestagung 2020\n\nDie ÖVG veranstaltet jedes Jahr ihre
  Jahrestagung in einem anderen Bundesland\, das auch den thematischen Schw
 erpunkt für die einzelnen Vorträge vorgibt und von der jeweiligen Landes
 stelle inhaltlich konzipiert wird. 2020 ist das Burgenland an der Reihe. A
 m 13. Oktober werden im Festsaal der Wirtschaftskammer Burgenland nach der
  Eröffnung durch den ÖVG-Präsidenten Andreas Matthä namhafte Vertreter
  aus Wissenschaft und Wirtschaft unter anderem zu den Themenbereichen gren
 züberschreitender Verkehr\, Förderungen und Innovationen\, wie die Verwe
 ndung von Drohnendaten als Basis für die Entwicklung von Verkehrsprojekte
 n\, referieren.\n\nProgramm &amp\; Anmeldung
CATEGORIES:Veranstaltungen
LOCATION:Wirtschaftskammer Burgenland\, Robert-Graf-Platz 1\, Eisenstadt\, 
 7000\, Österreich
GEO:47.842404;16.527208
X-APPLE-STRUCTURED-LOCATION;VALUE=URI;X-ADDRESS=Robert-Graf-Platz 1\, Eisen
 stadt\, 7000\, Österreich;X-APPLE-RADIUS=100;X-TITLE=Wirtschaftskammer Bu
 rgenland:geo:47.842404,16.527208
END:VEVENT
BEGIN:VTIMEZONE
TZID:Europe/Vienna
X-LIC-LOCATION:Europe/Vienna
BEGIN:DAYLIGHT
DTSTART:20200329T030000
TZOFFSETFROM:+0100
TZOFFSETTO:+0200
TZNAME:CEST
END:DAYLIGHT
END:VTIMEZONE
END:VCALENDAR