BEGIN:VCALENDAR
VERSION:2.0
PRODID:-//wp-events-plugin.com//6.4.10//EN
TZID:Europe/Vienna
X-WR-TIMEZONE:Europe/Vienna
BEGIN:VEVENT
UID:1247@verkehrsakademie.at
DTSTART;TZID=Europe/Vienna:20200527T083000
DTEND;TZID=Europe/Vienna:20200527T160000
DTSTAMP:20200225T143520Z
URL:https://www.verkehrsakademie.at/events/mobilitaet-ohne-grenzen-grenzen
 lose-mobilitaet/
SUMMARY:Mobilität ohne Grenzen – Grenzenlose Mobilität?
DESCRIPTION:ÖVG Jahrestagung 2020\nEröffnung durch den ÖVG-Präsidenten 
 Andreas Matthä sowie Vorträge namhafter Vertreter aus Wissenschaft und W
 irtschaft ua zu den Themenbereichen grenzüberschreitender Verkehr\, Förd
 erungen und Innovationen\, wie die Verwendung von Drohnendaten als Basis f
 ür die Entwicklung von Verkehrsprojekten.\n\nProgramm
CATEGORIES:Veranstaltungen
LOCATION:Wirtschaftskammer Burgenland\, Robert-Graf-Platz 1\, Eisenstadt\, 
 7000\, Österreich
GEO:47.842404;16.527208
X-APPLE-STRUCTURED-LOCATION;VALUE=URI;X-ADDRESS=Robert-Graf-Platz 1\, Eisen
 stadt\, 7000\, Österreich;X-APPLE-RADIUS=100;X-TITLE=Wirtschaftskammer Bu
 rgenland:geo:47.842404,16.527208
END:VEVENT
BEGIN:VTIMEZONE
TZID:Europe/Vienna
X-LIC-LOCATION:Europe/Vienna
BEGIN:DAYLIGHT
DTSTART:20200329T030000
TZOFFSETFROM:+0100
TZOFFSETTO:+0200
TZNAME:CEST
END:DAYLIGHT
END:VTIMEZONE
END:VCALENDAR