BEGIN:VCALENDAR
VERSION:2.0
PRODID:-//wp-events-plugin.com//6.4.10//EN
TZID:Europe/Vienna
X-WR-TIMEZONE:Europe/Vienna
BEGIN:VEVENT
UID:205@verkehrsakademie.at
DTSTART;TZID=Europe/Vienna:20151022T180000
DTEND;TZID=Europe/Vienna:20151022T200000
DTSTAMP:20151015T151631Z
URL:https://www.verkehrsakademie.at/events/mobility-and-urban-planning-for
 -21st-century/
SUMMARY:Mobility and urban planning for 21st century
DESCRIPTION:learnings from self-organising informal settlements in cities\n
 Vortrag von Prof. Geetam Tiwari\nSquatter settlements all over the world a
 re called informal settlements because they are not part of the official p
 lan. Nearly 1 billion people who live in squatter settlements are people w
 ho came to the city in search of jobs\, needed a place to live that they c
 ould afford\, and\, not being able to find it on the private market\, buil
 t it for themselves on land that wasn’t their own. Undoubtedly\, the gro
 wth of future cities depends upon how well we are able to plan for the ‘
 unplanned’. The generic theme evolving from Asia\, Latin America and Afr
 ica is that as cities expand\, the ‘informal’ sector grows faster than
  the ‘formal’ sector. This means that our plans will need paradigmatic
  change to deal with the heterogeneous housing and mobility needs of growi
 ng city populations. We will have to plan spaces for activities which cann
 ot be always well defined and predicted. It is better to plan for what is 
 inevitable than to turn a blind eye to the future.\n\nFurther information
CATEGORIES:Veranstaltungen
LOCATION:Diplomatische Akademie\, Favoritenstraße 15a\, Wien\, 1040\, Öst
 erreich
GEO:48.19421759999999;16.37036569999998
X-APPLE-STRUCTURED-LOCATION;VALUE=URI;X-ADDRESS=Favoritenstraße 15a\, Wien
 \, 1040\, Österreich;X-APPLE-RADIUS=100;X-TITLE=Diplomatische Akademie:ge
 o:48.19421759999999,16.37036569999998
END:VEVENT
BEGIN:VTIMEZONE
TZID:Europe/Vienna
X-LIC-LOCATION:Europe/Vienna
BEGIN:DAYLIGHT
DTSTART:20150329T030000
TZOFFSETFROM:+0100
TZOFFSETTO:+0200
TZNAME:CEST
END:DAYLIGHT
END:VTIMEZONE
END:VCALENDAR