BEGIN:VCALENDAR
VERSION:2.0
PRODID:-//wp-events-plugin.com//6.4.10//EN
TZID:Europe/Vienna
X-WR-TIMEZONE:Europe/Vienna
BEGIN:VEVENT
UID:1457@verkehrsakademie.at
DTSTART;TZID=Europe/Vienna:20221005T000000
DTEND;TZID=Europe/Vienna:20221005T000000
DTSTAMP:20220916T060327Z
URL:https://www.verkehrsakademie.at/events/multimodale-knoten-als-tragende
 -saeulen-der-mobilitaetswende/
SUMMARY:Multimodale Knoten als tragende Säulen der Mobilitätswende?
DESCRIPTION:Öffentlicher Verkehr in Kombination mit flexiblen und bedarfso
 rientierten Mobilitätsangeboten bietet eine attraktive und klimafreundlic
 he Alternative zum motorisierten Individualverkehr. Die SCHIG mbH lädt zu
 r Veranstaltung „Multimodale Knoten als tragende Säulen der Mobilitäts
 wende?“ ein und holt erfolgreich geförderte Mobilitätsprojekte im Bere
 ich Multimodaler Knoten\, die den öffentlichen Verkehr mit Ergänzungsang
 eboten für verschiedenste Mobilitätsbedürfnisse vereinen\, vor den Vorh
 ang.\n\nWeitere Informationen
CATEGORIES:Veranstaltungen
END:VEVENT
BEGIN:VTIMEZONE
TZID:Europe/Vienna
X-LIC-LOCATION:Europe/Vienna
BEGIN:DAYLIGHT
DTSTART:20220327T030000
TZOFFSETFROM:+0100
TZOFFSETTO:+0200
TZNAME:CEST
END:DAYLIGHT
END:VTIMEZONE
END:VCALENDAR