BEGIN:VCALENDAR
VERSION:2.0
PRODID:-//wp-events-plugin.com//6.4.10//EN
TZID:Europe/Vienna
X-WR-TIMEZONE:Europe/Vienna
BEGIN:VEVENT
UID:1428@verkehrsakademie.at
DTSTART;TZID=Europe/Vienna:20220428T000000
DTEND;TZID=Europe/Vienna:20220428T000000
DTSTAMP:20220414T062348Z
URL:https://www.verkehrsakademie.at/events/neuigkeiten-der-klimaaktiv-mobi
 l-foerdermoeglichkeiten-2022-webinar/
SUMMARY:Neuigkeiten der klimaaktiv mobil Fördermöglichkeiten 2022 - Webin
 ar
DESCRIPTION:Übersicht über die Neuigkeiten des Förderprogrammes (geände
 rte Fördersätze\, neue Fördermöglichkeiten\, aktuelle Förderbedingung
 en) für die Schwerpunkte Elektromobilität sowie aktive Mobilität und Mo
 bilitätsmanagement 2022 für alle Unternehmen in Österreich\n\nWeitere I
 nformationen
CATEGORIES:Veranstaltungen
END:VEVENT
BEGIN:VTIMEZONE
TZID:Europe/Vienna
X-LIC-LOCATION:Europe/Vienna
BEGIN:DAYLIGHT
DTSTART:20220327T030000
TZOFFSETFROM:+0100
TZOFFSETTO:+0200
TZNAME:CEST
END:DAYLIGHT
END:VTIMEZONE
END:VCALENDAR