BEGIN:VCALENDAR
VERSION:2.0
PRODID:-//wp-events-plugin.com//6.4.10//EN
TZID:Europe/Vienna
X-WR-TIMEZONE:Europe/Vienna
BEGIN:VEVENT
UID:357@verkehrsakademie.at
DTSTART;TZID=Europe/Vienna;VALUE=DATE:20161116
DTEND;TZID=Europe/Vienna;VALUE=DATE:20161118
DTSTAMP:20160914T114017Z
URL:https://www.verkehrsakademie.at/events/oesterreichische-gefahrgut-konf
 erenz-2016/
SUMMARY:Österreichische Gefahrgut-Konferenz 2016
DESCRIPTION:Die Schwerpunktthemen der Konferenz sind Änderungen bei den Ge
 fahrgutvorschriften\, Luftfrachtvorschriften international – national\, 
 Kritische Infrastruktur – Gefahrgut – Terrorismus\, Lagerung gefährli
 che Stoffe sowie SOLAS und der neue CTU Code. Sie findet wieder in der bew
 ährten Kooperation der ARGE Österreichische Gefahrgut-Konferenz mit der 
 Bundesparte Transport und Verkehr statt.\n\nÖGK 2016_Programm\n\n&nbsp\;\
 n\n&nbsp\;
CATEGORIES:Veranstaltungen
LOCATION:NH Wien Airport Hotel\,\, Einfahrtsstraße 1-3\,\, Wien\, 1300\, 
 Österreich
GEO:48.1216343;16.563273500000036
X-APPLE-STRUCTURED-LOCATION;VALUE=URI;X-ADDRESS=Einfahrtsstraße 1-3\,\, Wi
 en\, 1300\, Österreich;X-APPLE-RADIUS=100;X-TITLE=NH Wien Airport Hotel\,
 :geo:48.1216343,16.563273500000036
END:VEVENT
BEGIN:VTIMEZONE
TZID:Europe/Vienna
X-LIC-LOCATION:Europe/Vienna
BEGIN:STANDARD
DTSTART:20161030T020000
TZOFFSETFROM:+0200
TZOFFSETTO:+0100
TZNAME:CET
END:STANDARD
END:VTIMEZONE
END:VCALENDAR