BEGIN:VCALENDAR
VERSION:2.0
PRODID:-//wp-events-plugin.com//6.4.10//EN
TZID:Europe/Vienna
X-WR-TIMEZONE:Europe/Vienna
BEGIN:VEVENT
UID:1427@verkehrsakademie.at
DTSTART;TZID=Europe/Vienna:20220425T000000
DTEND;TZID=Europe/Vienna:20220425T000000
DTSTAMP:20220412T130025Z
URL:https://www.verkehrsakademie.at/events/oevg-connect-wie-treffsicher-si
 nd-die-neuen-massnahmen-fuer-die-pendler/
SUMMARY:ÖVG-Connect: Wie treffsicher sind die neuen Maßnahmen für die Pe
 ndler?
DESCRIPTION:Weitere Informationen
CATEGORIES:Veranstaltungen
END:VEVENT
BEGIN:VTIMEZONE
TZID:Europe/Vienna
X-LIC-LOCATION:Europe/Vienna
BEGIN:DAYLIGHT
DTSTART:20220327T030000
TZOFFSETFROM:+0100
TZOFFSETTO:+0200
TZNAME:CEST
END:DAYLIGHT
END:VTIMEZONE
END:VCALENDAR