BEGIN:VCALENDAR
VERSION:2.0
PRODID:-//wp-events-plugin.com//6.4.10//EN
TZID:Europe/Vienna
X-WR-TIMEZONE:Europe/Vienna
BEGIN:VEVENT
UID:1576@verkehrsakademie.at
DTSTART;TZID=Europe/Vienna:20241127T000000
DTEND;TZID=Europe/Vienna:20241127T000000
DTSTAMP:20240604T065830Z
URL:https://www.verkehrsakademie.at/events/oevg-dialogforum-zum-review-mob
 ilitaet-2050/
SUMMARY:ÖVG-Dialogforum zum Review Mobilität 2050
DESCRIPTION:Diese Veranstaltung wird vom ÖVG-Arbeitskreis Nachhaltige Mobi
 lität und Infrastruktur veranstaltet.\n\nWeitere Informationen
CATEGORIES:Veranstaltungen
END:VEVENT
BEGIN:VTIMEZONE
TZID:Europe/Vienna
X-LIC-LOCATION:Europe/Vienna
BEGIN:STANDARD
DTSTART:20241027T020000
TZOFFSETFROM:+0200
TZOFFSETTO:+0100
TZNAME:CET
END:STANDARD
END:VTIMEZONE
END:VCALENDAR