BEGIN:VCALENDAR
VERSION:2.0
PRODID:-//wp-events-plugin.com//6.4.10//EN
TZID:Europe/Vienna
X-WR-TIMEZONE:Europe/Vienna
BEGIN:VEVENT
UID:1259@verkehrsakademie.at
DTSTART;TZID=Europe/Vienna:20200505T170000
DTEND;TZID=Europe/Vienna:20200505T170000
DTSTAMP:20200429T133249Z
URL:https://www.verkehrsakademie.at/events/online-infoabend-universitaetsl
 ehrgang-logistik-supply-chain-management/
SUMMARY:Online-Infoabend Universitätslehrgang Logistik & Supply Chain Mana
 gement
DESCRIPTION:Kontinuierliche Weiterbildung ist für Unternehmen und Mitarbei
 ter ein wesentlicher Erfolgsfaktor\, besonders in diesen herausfordernden 
 Zeiten benötigt es viel Know-how. Im Oktober 2020 startet der 3-semestrig
 e Universitätslehrgang Logistik &amp\; Supply Chain Management an der WU 
 Executive Academy der Wirtschaftsuniversität Wien. Der kompakte und praxi
 sbezogene Universitätslehrgang ist speziell auf die Bedürfnisse erfahren
 er Praktiker aus der Transportwirtschaft und Logistik ausgerichtet. Durch 
 Module Freitag nachmittags und Samstag\, alle 14 Tage\, ist der Besuch des
  Lehrgangs mit dem Beruf gut vereinbar.\n\nAlle Infos: www.logistiklehrgan
 g.at\nBroschüre: https://executiveacademy.at/fileadmin_synced_assets/docu
 ments/brochures/ULG/Broschuere-ULG-Logistik.pdf\n Anmeldung zum Infoabend:
  https://executiveacademy.at/de/events/detail/info-abend-universitaetslehr
 gang-logistik-scm-2\n\n&nbsp\;
CATEGORIES:Weiterbildung
END:VEVENT
BEGIN:VTIMEZONE
TZID:Europe/Vienna
X-LIC-LOCATION:Europe/Vienna
BEGIN:DAYLIGHT
DTSTART:20200329T030000
TZOFFSETFROM:+0100
TZOFFSETTO:+0200
TZNAME:CEST
END:DAYLIGHT
END:VTIMEZONE
END:VCALENDAR