BEGIN:VCALENDAR
VERSION:2.0
PRODID:-//wp-events-plugin.com//6.4.10//EN
TZID:Europe/Vienna
X-WR-TIMEZONE:Europe/Vienna
BEGIN:VEVENT
UID:238@verkehrsakademie.at
DTSTART;TZID=Europe/Vienna:20160226T000000
DTEND;TZID=Europe/Vienna:20160226T000000
DTSTAMP:20160112T153223Z
URL:https://www.verkehrsakademie.at/events/peter-faller-nachwuchsfoerderpr
 eis-2016/
SUMMARY:Peter-Faller-Nachwuchsförderpreis 2016
DESCRIPTION:für herausragende wissenschaftliche Abschlussarbeiten aus dem 
 Bereich Transport – Verkehr – Logistik\n&nbsp\;\n\nDer Peter-Faller-Na
 chwuchsförderpreis wird für herausragende wissenschaftliche Abschlussarb
 eiten in den Kategorien Dissertation und Diplomarbeit/Masterarbeit vergebe
 n. Das Preisgeld kann (pro Kategorie) für eine Einzelarbeit vergeben oder
  auf mehrere Arbeiten verteilt werden.\n\nDetailinfos
CATEGORIES:Ausschreibungen
END:VEVENT
BEGIN:VTIMEZONE
TZID:Europe/Vienna
X-LIC-LOCATION:Europe/Vienna
BEGIN:STANDARD
DTSTART:20151025T020000
TZOFFSETFROM:+0200
TZOFFSETTO:+0100
TZNAME:CET
END:STANDARD
END:VTIMEZONE
END:VCALENDAR