BEGIN:VCALENDAR
VERSION:2.0
PRODID:-//wp-events-plugin.com//6.4.10//EN
TZID:Europe/Vienna
X-WR-TIMEZONE:Europe/Vienna
BEGIN:VEVENT
UID:1577@verkehrsakademie.at
DTSTART;TZID=Europe/Vienna:20240604T000000
DTEND;TZID=Europe/Vienna:20240830T000000
DTSTAMP:20240604T071103Z
URL:https://www.verkehrsakademie.at/events/peter-faller-nachwuchspreis/
SUMMARY:Peter-Faller-Nachwuchspreis
DESCRIPTION:Auch dieses Jahr zeichnet die ÖVG mit dem Peter-Faller-Nachwuc
 hspreis herausragende wissenschaftliche Abschlussarbeiten aus dem Bereich 
 Transport - Verkehr - Logistik aus.\nDiplomarbeiten\, Masterarbeiten und D
 issertationen können bis zum 30.08.2024 eingereicht werden.\n\nWeitere In
 formationen
CATEGORIES:Ausschreibungen
END:VEVENT
BEGIN:VTIMEZONE
TZID:Europe/Vienna
X-LIC-LOCATION:Europe/Vienna
BEGIN:DAYLIGHT
DTSTART:20240331T030000
TZOFFSETFROM:+0100
TZOFFSETTO:+0200
TZNAME:CEST
END:DAYLIGHT
END:VTIMEZONE
END:VCALENDAR