BEGIN:VCALENDAR
VERSION:2.0
PRODID:-//wp-events-plugin.com//6.4.10//EN
TZID:Europe/Vienna
X-WR-TIMEZONE:Europe/Vienna
BEGIN:VEVENT
UID:1244@verkehrsakademie.at
DTSTART;TZID=Europe/Vienna:20200622T090000
DTEND;TZID=Europe/Vienna:20200624T170000
DTSTAMP:20200213T140236Z
URL:https://www.verkehrsakademie.at/events/praxis-lehrgang-umsatzsteuer-im
 -aussenhandel/
SUMMARY:Praxis-Lehrgang Umsatzsteuer im Außenhandel
DESCRIPTION:Lernen Sie\, Geschäftsfälle im Außenhandel sowohl aus umsa
 tzsteuerlicher\, als auch aus zollrechtlicher Sicht richtig zu beurteilen
 ! Der Lehrgang für Praktiker!\n\nTag 1 - Außenhandel &amp\; Zoll\n\nTag
  2 - Umsatzsteuer\n\nTag 3 - Vertiefung &amp\; Beispiele\n\n&nbsp\;\n\nZ
 ielgruppen:\nLeiter &amp\; Mitarbeiter der Abteilung Buchhaltung &amp\; Re
 chnungswesen\nLeiter &amp\; Mitarbeiter der Abteilung Außenhandel\nUntern
 ehmer\, Geschäftsführer\nUnternehmensberater\nVerantwortliche aus Minist
 erien\, Ämtern der Landesregierungen\, Kammern\n\n&nbsp\;\n\nPraxis-Lehrg
 ang Umsatzsteuer im Außenhandel\n\n&nbsp\;\n\n&nbsp\;
CATEGORIES:Veranstaltungen,Weiterbildung
LOCATION:ARCOTEL Donauzentrum\, Wagramer Str. 83-85\, Wien\, Wien\, 1220\, 
 Österreich
GEO:48.2428087;16.434680699999944
X-APPLE-STRUCTURED-LOCATION;VALUE=URI;X-ADDRESS=Wagramer Str. 83-85\, Wien\
 , Wien\, 1220\, Österreich;X-APPLE-RADIUS=100;X-TITLE=ARCOTEL Donauzentru
 m:geo:48.2428087,16.434680699999944
END:VEVENT
BEGIN:VTIMEZONE
TZID:Europe/Vienna
X-LIC-LOCATION:Europe/Vienna
BEGIN:DAYLIGHT
DTSTART:20200329T030000
TZOFFSETFROM:+0100
TZOFFSETTO:+0200
TZNAME:CEST
END:DAYLIGHT
END:VTIMEZONE
END:VCALENDAR