BEGIN:VCALENDAR
VERSION:2.0
PRODID:-//wp-events-plugin.com//6.4.10//EN
TZID:Europe/Vienna
X-WR-TIMEZONE:Europe/Vienna
BEGIN:VEVENT
UID:1651@verkehrsakademie.at
DTSTART;TZID=Europe/Vienna:20260414T000000
DTEND;TZID=Europe/Vienna:20260919T000000
DTSTAMP:20260421T081149Z
URL:https://www.verkehrsakademie.at/events/rail4climate-ausschreibung-2026
 /
SUMMARY:Rail4Climate – Ausschreibung 2026
DESCRIPTION:Eine Ausschreibung des Klima- und Energiefonds der österreichi
 schen Bundesregierung\n\nWeitere Informationen
CATEGORIES:Ausschreibungen
END:VEVENT
BEGIN:VTIMEZONE
TZID:Europe/Vienna
X-LIC-LOCATION:Europe/Vienna
BEGIN:DAYLIGHT
DTSTART:20260329T030000
TZOFFSETFROM:+0100
TZOFFSETTO:+0200
TZNAME:CEST
END:DAYLIGHT
END:VTIMEZONE
END:VCALENDAR