BEGIN:VCALENDAR
VERSION:2.0
PRODID:-//wp-events-plugin.com//6.4.10//EN
TZID:Europe/Vienna
X-WR-TIMEZONE:Europe/Vienna
BEGIN:VEVENT
UID:1632@verkehrsakademie.at
DTSTART;TZID=Europe/Vienna:20260507T000000
DTEND;TZID=Europe/Vienna:20260507T000000
DTSTAMP:20260313T073909Z
URL:https://www.verkehrsakademie.at/events/save-the-date-e-day-am-7-mai-20
 26/
SUMMARY:E-DAY am 7. Mai 2026
DESCRIPTION:Am 7. Mai 2026 findet der E-Day in der WKÖ statt. Der Schwerpu
 nkt liegt diesmal auf dem Spezialthema Robotik\, welches sich rasant zur S
 chlüsseltechnologie für Unternehmen aller Größen entwickelt hat. Der i
 nternationale Robotik-Experte Daniel Bösl gibt exklusive Einblicke in akt
 uelle Entwicklungen\, zeigt strategische Perspektiven für Europa auf und 
 erläutert welche Chancen sich für Unternehmen durch die nächste Generat
 ion autonomer Systeme eröffnen. Ergänzt wird das Programm durch hochkar
 ätige Fachvorträge\, Best Practice Beispiele und interaktive Formate. Da
 rüber hinaus bietet der E-Day ein umfangreiches Rahmenprogramm mit Infost
 änden\, VR-Stationen und vielem mehr.\n\nWeitere Informationen\n\n&nbsp\;
CATEGORIES:Veranstaltungen
END:VEVENT
BEGIN:VTIMEZONE
TZID:Europe/Vienna
X-LIC-LOCATION:Europe/Vienna
BEGIN:DAYLIGHT
DTSTART:20260329T030000
TZOFFSETFROM:+0100
TZOFFSETTO:+0200
TZNAME:CEST
END:DAYLIGHT
END:VTIMEZONE
END:VCALENDAR