BEGIN:VCALENDAR
VERSION:2.0
PRODID:-//wp-events-plugin.com//6.4.10//EN
TZID:Europe/Vienna
X-WR-TIMEZONE:Europe/Vienna
BEGIN:VEVENT
UID:1642@verkehrsakademie.at
DTSTART;TZID=Europe/Vienna:20260226T100000
DTEND;TZID=Europe/Vienna:20260226T163000
DTSTAMP:20251222T145453Z
URL:https://www.verkehrsakademie.at/events/schlaue-plaene-kluge-strategien
 -mobilitaetswende-in-kommunen/
SUMMARY:Schlaue Pläne &amp\; kluge Strategien – Mobilitätswende in Komm
 unen
DESCRIPTION:Viele gute Ideen für die Mobilitätswende liegen bereits am Ti
 sch – doch bei der Umsetzung tun sich in der Praxis häufig Lücken auf.
  Kommunen und Bundesländer stehen oft alleine vor der Herausforderung\, M
 aßnahmen wirksam zu realisieren. Entscheidend sind dabei nicht nur gute K
 onzepte\, sondern auch funktionierende Verwaltungsprozesse und die Akzepta
 nz der Bevölkerung.\nDas ÖVG Dialogforum nimmt diese Aspekte in den Blic
 k und bringt Vertreter:innen aus Kommunalpolitik\, Bundesländern und dem 
 Bundesministerium zusammen. Erfolgreiche Beispiele werden vorgestellt und 
 diskutiert – mit Fokus auf Erfolgsfaktoren\, Hürden und konkrete Handlu
 ngsmöglichkeiten.\nDie Anmeldung ist auf der Website der ÖVG möglich.
CATEGORIES:Veranstaltungen
LOCATION:ÖBB Open Innovation Factory\, Lassallestraße 5\, Wien\, 1020\, 
 Österreich
GEO:48.221385;16.39541
X-APPLE-STRUCTURED-LOCATION;VALUE=URI;X-ADDRESS=Lassallestraße 5\, Wien\, 
 1020\, Österreich;X-APPLE-RADIUS=100;X-TITLE=ÖBB Open Innovation Factory
 :geo:48.221385,16.39541
END:VEVENT
BEGIN:VTIMEZONE
TZID:Europe/Vienna
X-LIC-LOCATION:Europe/Vienna
BEGIN:STANDARD
DTSTART:20251026T020000
TZOFFSETFROM:+0200
TZOFFSETTO:+0100
TZNAME:CET
END:STANDARD
END:VTIMEZONE
END:VCALENDAR