BEGIN:VCALENDAR
VERSION:2.0
PRODID:-//wp-events-plugin.com//6.4.10//EN
TZID:Europe/Vienna
X-WR-TIMEZONE:Europe/Vienna
BEGIN:VEVENT
UID:1050@verkehrsakademie.at
DTSTART;TZID=Europe/Vienna:20181112T090000
DTEND;TZID=Europe/Vienna:20181112T130000
DTSTAMP:20181009T132223Z
URL:https://www.verkehrsakademie.at/events/schulung-zum-digitalen-kontroll
 geraet/
SUMMARY:Schulung zum Digitalen Kontrollgerät
DESCRIPTION:Seminar/Schulung – Handhabung und richtige Bedienung des Digi
 talen Kontrollgeräts – Angebot des Fachverbandes in Kooperation mit Con
 tinental/VDO\n\nLenker-Schulung DigiTacho
CATEGORIES:Weiterbildung
LOCATION:Continental Automotive Trading Österreich GmbH\, Flachgasse 54-58
 \, Wien\, Österreich
GEO:48.1985209;16.31542509999997
X-APPLE-STRUCTURED-LOCATION;VALUE=URI;X-ADDRESS=Flachgasse 54-58\, Wien\, 
 Österreich;X-APPLE-RADIUS=100;X-TITLE=Continental Automotive Trading Öst
 erreich GmbH:geo:48.1985209,16.31542509999997
END:VEVENT
BEGIN:VTIMEZONE
TZID:Europe/Vienna
X-LIC-LOCATION:Europe/Vienna
BEGIN:STANDARD
DTSTART:20181028T020000
TZOFFSETFROM:+0200
TZOFFSETTO:+0100
TZNAME:CET
END:STANDARD
END:VTIMEZONE
END:VCALENDAR