BEGIN:VCALENDAR
VERSION:2.0
PRODID:-//wp-events-plugin.com//6.4.10//EN
TZID:Europe/Vienna
X-WR-TIMEZONE:Europe/Vienna
BEGIN:VEVENT
UID:867@verkehrsakademie.at
DTSTART;TZID=Europe/Vienna:20180619T090000
DTEND;TZID=Europe/Vienna:20180619T140000
DTSTAMP:20180504T144145Z
URL:https://www.verkehrsakademie.at/events/shift2rail-dialogue-on-the-futu
 re-of-rail-research-and-innovation/
SUMMARY:Shift2Rail Dialogue on the Future of Rail Research and Innovation
DESCRIPTION:Das Shift2Rail Joint Undertaking lädt zu einem Dialog ein\, um
  die Erwartungen der unterschiedlichen Stakeholder an die mögliche nächs
 te Periode von Shift2Rail zu diskutieren.\n\nInformation
CATEGORIES:Veranstaltungen
LOCATION:Square Brussels Convention Centre\, Glass Entrance\, Mont des Arts
 /Kunstberg\, Brüssel\, B-1000\, Belgien
GEO:50.84437459999999;4.355922200000009
X-APPLE-STRUCTURED-LOCATION;VALUE=URI;X-ADDRESS=Glass Entrance\, Mont des A
 rts/Kunstberg\, Brüssel\, B-1000\, Belgien;X-APPLE-RADIUS=100;X-TITLE=Squ
 are Brussels Convention Centre:geo:50.84437459999999,4.355922200000009
END:VEVENT
BEGIN:VTIMEZONE
TZID:Europe/Vienna
X-LIC-LOCATION:Europe/Vienna
BEGIN:DAYLIGHT
DTSTART:20180325T030000
TZOFFSETFROM:+0100
TZOFFSETTO:+0200
TZNAME:CEST
END:DAYLIGHT
END:VTIMEZONE
END:VCALENDAR