BEGIN:VCALENDAR
VERSION:2.0
PRODID:-//wp-events-plugin.com//6.4.10//EN
TZID:Europe/Vienna
X-WR-TIMEZONE:Europe/Vienna
BEGIN:VEVENT
UID:1045@verkehrsakademie.at
DTSTART;TZID=Europe/Vienna:20181017T090000
DTEND;TZID=Europe/Vienna:20181017T170000
DTSTAMP:20180920T122609Z
URL:https://www.verkehrsakademie.at/events/spedition-logistik-5/
SUMMARY:Spedition &amp\; Logistik
DESCRIPTION:\n\n\nIn diesem Seminar erfahren Sie\, worauf es bei Logistikdi
 enstleistungsverträgen in der Praxis ankommt und worauf Sie besonders ach
 ten müssen! Inkl. beispielhafter Musterklauseln!\n\nInkl. Praxishandbüch
 er "Praxisleitfaden Transportrecht" und "Transport von Gütern - Haftung &
 amp\; Versicherung"!\n\nMehr Informationen HaftungVersicherung_SpedLog_F\n
 \n\n
CATEGORIES:Weiterbildung
LOCATION:Wohlfühlhotel Novapark\, Fischeraustraße 22\, Graz\, Steiermark\
 , 8051\, Österreich
GEO:47.0957632;15.410880700000007
X-APPLE-STRUCTURED-LOCATION;VALUE=URI;X-ADDRESS=Fischeraustraße 22\, Graz\
 , Steiermark\, 8051\, Österreich;X-APPLE-RADIUS=100;X-TITLE=Wohlfühlhote
 l Novapark:geo:47.0957632,15.410880700000007
END:VEVENT
BEGIN:VTIMEZONE
TZID:Europe/Vienna
X-LIC-LOCATION:Europe/Vienna
BEGIN:DAYLIGHT
DTSTART:20180325T030000
TZOFFSETFROM:+0100
TZOFFSETTO:+0200
TZNAME:CEST
END:DAYLIGHT
END:VTIMEZONE
END:VCALENDAR